BEGIN_USGS_DOQ_HEADER *
QUADRANGLE_NAME "FORTUNA SW" *
QUADRANT NE *
NORTH_LATITUDE 32 37 30.000 *
WEST_LONGITUDE -114 26 15.000 *
SOUTH_LATITUDE 32 33 45.000 *
EAST_LONGITUDE -114 22 30.000 *
PRODUCTION_DATE 1998 02 27 *
RASTER_ORDER LEFT_RIGHT/TOP_BOTTOM *
BAND_ORGANIZATION BIP *
BAND_CONTENT RED *
BAND_CONTENT GREEN *
BAND_CONTENT BLUE *
BITS_PER_PIXEL 8 *
SAMPLES_AND_LINES 6720 7710 *
HORIZONTAL_DATUM NAD83 *
HORIZONTAL_COORDINATE_SYSTEM UTM *
COORDINATE_ZONE 11 *
HORIZONTAL_UNITS METERS *
HORIZONTAL_RESOLUTION 1.000 *
SECONDARY_HORIZONTAL_DATUM NAD27 *
XY_ORIGIN 740040.000 3613080.000 *
SECONDARY_XY_ORIGIN 740118.520 3612886.461 *
NATION US *
STATE AZ *
NW_QUAD_CORNER_XY 740419.390 3612615.388 *
NE_QUAD_CORNER_XY 746284.987 3612758.645 *
SE_QUAD_CORNER_XY 746456.171 3605827.265 *
SW_QUAD_CORNER_XY 740586.489 3605684.152 *
SECONDARY_NW_QUAD_XY 740424.609 3612425.607 *
SECONDARY_NE_QUAD_XY 746290.334 3612568.868 *
SECONDARY_SE_QUAD_XY 746461.513 3605637.706 *
SECONDARY_SW_QUAD_XY 740591.703 3605494.590 *
RMSE_XY 1.125 *
IMAGE_SOURCE "CIR FILM" *
SOURCE_IMAGE_ID "NAPP 9561 19" *
SOURCE_IMAGE_DATE 1996 06 09 *
SOURCE_DEM_DATE 1997 01 01 *
AGENCY "WESTERN MAPPING CENTER (WMC)" *
PRODUCER "ANALYTICAL SURVEYS INC." *
PRODUCTION_SYSTEM "ORBIT OR_RECTIFY V.5.2" *
STANDARD_VERSION 1996 12 *
METADATA_DATE 1998 02 27 *
DATA_FILE_SIZE 155453760 *
BYTE_COUNT 20160 * * * * * * * * * * * * * * * * * * * * * * * * * * * * * * * * * * * * * * * * * * * * * * * * * * * * * * * * * * * * * * * * * * * * * * * * * * * * * * * * * * * * * * * * * * * * * * * * * * * * * * * * * * * * * * * * * * * * * * * * * * * * * * * * * * * * * * * * * * * * * * * * * * * * * * * * * * * * * * * * * * * * * * * * * * * * * * * * * * * * * * * * * * * * * * * * * * * * * * * * * * * * * * *
END_USGS_HEADER *
