BEGIN_USGS_DOQ_HEADER *
QUADRANGLE_NAME "FORTUNA SW" *
QUADRANT SW *
NORTH_LATITUDE 32 33 45.000 *
WEST_LONGITUDE -114 30 00.000 *
SOUTH_LATITUDE 32 30 00.000 *
EAST_LONGITUDE -114 26 15.000 *
PRODUCTION_DATE 1998 02 27 *
RASTER_ORDER LEFT_RIGHT/TOP_BOTTOM *
BAND_ORGANIZATION BIP *
BAND_CONTENT RED *
BAND_CONTENT GREEN *
BAND_CONTENT BLUE *
BITS_PER_PIXEL 8 *
SAMPLES_AND_LINES 6720 7710 *
HORIZONTAL_DATUM NAD83 *
HORIZONTAL_COORDINATE_SYSTEM UTM *
COORDINATE_ZONE 11 *
HORIZONTAL_UNITS METERS *
HORIZONTAL_RESOLUTION 1.000 *
SECONDARY_HORIZONTAL_DATUM NAD27 *
XY_ORIGIN 734340.000 3606000.000 *
SECONDARY_XY_ORIGIN 734418.593 3605806.402 *
NATION US *
STATE AZ *
NW_QUAD_CORNER_XY 734716.928 3605544.495 *
NE_QUAD_CORNER_XY 740586.489 3605684.152 *
SE_QUAD_CORNER_XY 740753.302 3598752.971 *
SW_QUAD_CORNER_XY 734879.663 3598613.456 *
SECONDARY_NW_QUAD_XY 734722.015 3605354.929 *
SECONDARY_NE_QUAD_XY 740591.703 3605494.590 *
SECONDARY_SE_QUAD_XY 740758.511 3598563.628 *
SECONDARY_SW_QUAD_XY 734884.745 3598424.109 *
RMSE_XY 0.973 *
IMAGE_SOURCE "CIR FILM" *
SOURCE_IMAGE_ID "NAPP 9561 90" *
SOURCE_IMAGE_DATE 1996 06 09 *
SOURCE_DEM_DATE 1997 01 01 *
AGENCY "WESTERN MAPPING CENTER (WMC)" *
PRODUCER "ANALYTICAL SURVEYS INC." *
PRODUCTION_SYSTEM "ORBIT OR_RECTIFY V.5.2" *
STANDARD_VERSION 1996 12 *
METADATA_DATE 1998 02 27 *
DATA_FILE_SIZE 155453760 *
BYTE_COUNT 20160 * * * * * * * * * * * * * * * * * * * * * * * * * * * * * * * * * * * * * * * * * * * * * * * * * * * * * * * * * * * * * * * * * * * * * * * * * * * * * * * * * * * * * * * * * * * * * * * * * * * * * * * * * * * * * * * * * * * * * * * * * * * * * * * * * * * * * * * * * * * * * * * * * * * * * * * * * * * * * * * * * * * * * * * * * * * * * * * * * * * * * * * * * * * * * * * * * * * * * * * * * * * * * * *
END_USGS_HEADER *
