BEGIN_USGS_DOQ_HEADER *
QUADRANGLE_NAME "YUMA SE" *
QUADRANT NW *
NORTH_LATITUDE 32 37 30.000 *
WEST_LONGITUDE -114 37 30.000 *
SOUTH_LATITUDE 32 33 45.000 *
EAST_LONGITUDE -114 33 45.000 *
PRODUCTION_DATE 1998 02 23 *
RASTER_ORDER LEFT_RIGHT/TOP_BOTTOM *
BAND_ORGANIZATION BIP *
BAND_CONTENT RED *
BAND_CONTENT GREEN *
BAND_CONTENT BLUE *
BITS_PER_PIXEL 8 *
SAMPLES_AND_LINES 6720 7710 *
HORIZONTAL_DATUM NAD83 *
HORIZONTAL_COORDINATE_SYSTEM UTM *
COORDINATE_ZONE 11 *
HORIZONTAL_UNITS METERS *
HORIZONTAL_RESOLUTION 1.000 *
SECONDARY_HORIZONTAL_DATUM NAD27 *
XY_ORIGIN 722430.000 3612660.000 *
SECONDARY_XY_ORIGIN 722508.682 3612466.281 *
NATION US *
STATE AZ *
NW_QUAD_CORNER_XY 722823.310 3612206.369 *
NE_QUAD_CORNER_XY 728688.554 3612339.250 *
SE_QUAD_CORNER_XY 728847.485 3605408.293 *
SW_QUAD_CORNER_XY 722978.158 3605275.546 *
SECONDARY_NW_QUAD_XY 722828.147 3612016.580 *
SECONDARY_NE_QUAD_XY 728693.518 3612149.464 *
SECONDARY_SE_QUAD_XY 728852.445 3605218.725 *
SECONDARY_SW_QUAD_XY 722982.990 3605085.975 *
RMSE_XY 1.466 *
IMAGE_SOURCE "CIR FILM" *
SOURCE_IMAGE_ID "NAPP 9570 176" *
SOURCE_IMAGE_DATE 1996 06 23 *
SOURCE_DEM_DATE 1997 01 01 *
AGENCY "WESTERN MAPPING CENTER (WMC)" *
PRODUCER "ANALYTICAL SURVEYS INC." *
PRODUCTION_SYSTEM "ORBIT OR_RECTIFY V.5.2" *
STANDARD_VERSION 1996 12 *
METADATA_DATE 1998 02 23 *
DATA_FILE_SIZE 155453760 *
BYTE_COUNT 20160 * * * * * * * * * * * * * * * * * * * * * * * * * * * * * * * * * * * * * * * * * * * * * * * * * * * * * * * * * * * * * * * * * * * * * * * * * * * * * * * * * * * * * * * * * * * * * * * * * * * * * * * * * * * * * * * * * * * * * * * * * * * * * * * * * * * * * * * * * * * * * * * * * * * * * * * * * * * * * * * * * * * * * * * * * * * * * * * * * * * * * * * * * * * * * * * * * * * * * * * * * * * * * * *
END_USGS_HEADER *
