BEGIN_USGS_DOQ_HEADER *
QUADRANGLE_NAME "YUMA SE" *
QUADRANT SE *
NORTH_LATITUDE 32 33 45.000 *
WEST_LONGITUDE -114 33 45.000 *
SOUTH_LATITUDE 32 30 00.000 *
EAST_LONGITUDE -114 30 00.000 *
PRODUCTION_DATE 1998 02 23 *
RASTER_ORDER LEFT_RIGHT/TOP_BOTTOM *
BAND_ORGANIZATION BIP *
BAND_CONTENT RED *
BAND_CONTENT GREEN *
BAND_CONTENT BLUE *
BITS_PER_PIXEL 8 *
SAMPLES_AND_LINES 6720 7680 *
HORIZONTAL_DATUM NAD83 *
HORIZONTAL_COORDINATE_SYSTEM UTM *
COORDINATE_ZONE 11 *
HORIZONTAL_UNITS METERS *
HORIZONTAL_RESOLUTION 1.000 *
SECONDARY_HORIZONTAL_DATUM NAD27 *
XY_ORIGIN 728460.000 3605850.000 *
SECONDARY_XY_ORIGIN 728538.654 3605656.340 *
NATION US *
STATE AZ *
NW_QUAD_CORNER_XY 728847.485 3605408.293 *
NE_QUAD_CORNER_XY 734716.928 3605544.495 *
SE_QUAD_CORNER_XY 734879.663 3598613.456 *
SW_QUAD_CORNER_XY 729006.144 3598477.393 *
SECONDARY_NW_QUAD_XY 728852.445 3605218.725 *
SECONDARY_NE_QUAD_XY 734722.015 3605354.929 *
SECONDARY_SE_QUAD_XY 734884.745 3598424.109 *
SECONDARY_SW_QUAD_XY 729011.099 3598288.043 *
RMSE_XY 2.304 *
IMAGE_SOURCE "CIR FILM" *
SOURCE_IMAGE_ID "NAPP 9574 40" *
SOURCE_IMAGE_DATE 1996 09 28 *
SOURCE_DEM_DATE 1997 01 01 *
AGENCY "WESTERN MAPPING CENTER (WMC)" *
PRODUCER "ANALYTICAL SURVEYS INC." *
PRODUCTION_SYSTEM "ORBIT OR_RECTIFY V.5.2" *
STANDARD_VERSION 1996 12 *
METADATA_DATE 1998 02 23 *
DATA_FILE_SIZE 154848960 *
BYTE_COUNT 20160 * * * * * * * * * * * * * * * * * * * * * * * * * * * * * * * * * * * * * * * * * * * * * * * * * * * * * * * * * * * * * * * * * * * * * * * * * * * * * * * * * * * * * * * * * * * * * * * * * * * * * * * * * * * * * * * * * * * * * * * * * * * * * * * * * * * * * * * * * * * * * * * * * * * * * * * * * * * * * * * * * * * * * * * * * * * * * * * * * * * * * * * * * * * * * * * * * * * * * * * * * * * * * * *
END_USGS_HEADER *
