BEGIN_USGS_DOQ_HEADER *
QUADRANGLE_NAME "YUMA SE" *
QUADRANT SW *
NORTH_LATITUDE 32 33 45.000 *
WEST_LONGITUDE -114 37 30.000 *
SOUTH_LATITUDE 32 30 00.000 *
EAST_LONGITUDE -114 33 45.000 *
PRODUCTION_DATE 1998 02 23 *
RASTER_ORDER LEFT_RIGHT/TOP_BOTTOM *
BAND_ORGANIZATION BIP *
BAND_CONTENT RED *
BAND_CONTENT GREEN *
BAND_CONTENT BLUE *
BITS_PER_PIXEL 8 *
SAMPLES_AND_LINES 6750 7710 *
HORIZONTAL_DATUM NAD83 *
HORIZONTAL_COORDINATE_SYSTEM UTM *
COORDINATE_ZONE 11 *
HORIZONTAL_UNITS METERS *
HORIZONTAL_RESOLUTION 1.000 *
SECONDARY_HORIZONTAL_DATUM NAD27 *
XY_ORIGIN 722580.000 3605730.000 *
SECONDARY_XY_ORIGIN 722658.712 3605536.275 *
NATION US *
STATE AZ *
NW_QUAD_CORNER_XY 722978.158 3605275.546 *
NE_QUAD_CORNER_XY 728847.485 3605408.293 *
SE_QUAD_CORNER_XY 729006.144 3598477.393 *
SW_QUAD_CORNER_XY 723132.741 3598344.781 *
SECONDARY_NW_QUAD_XY 722982.990 3605085.975 *
SECONDARY_NE_QUAD_XY 728852.445 3605218.725 *
SECONDARY_SE_QUAD_XY 729011.099 3598288.043 *
SECONDARY_SW_QUAD_XY 723137.568 3598155.428 *
RMSE_XY 2.045 *
IMAGE_SOURCE "CIR FILM" *
SOURCE_IMAGE_ID "NAPP 9570 178" *
SOURCE_IMAGE_DATE 1996 06 23 *
SOURCE_DEM_DATE 1997 01 01 *
AGENCY "WESTERN MAPPING CENTER (WMC)" *
PRODUCER "ANALYTICAL SURVEYS INC." *
PRODUCTION_SYSTEM "ORBIT OR_RECTIFY V.5.2" *
STANDARD_VERSION 1996 12 *
METADATA_DATE 1998 02 23 *
DATA_FILE_SIZE 156147750 *
BYTE_COUNT 20250 * * * * * * * * * * * * * * * * * * * * * * * * * * * * * * * * * * * * * * * * * * * * * * * * * * * * * * * * * * * * * * * * * * * * * * * * * * * * * * * * * * * * * * * * * * * * * * * * * * * * * * * * * * * * * * * * * * * * * * * * * * * * * * * * * * * * * * * * * * * * * * * * * * * * * * * * * * * * * * * * * * * * * * * * * * * * * * * * * * * * * * * * * * * * * * * * * * * * * * * * * * * * * * * * *
END_USGS_HEADER *
