BEGIN_USGS_DOQ_HEADER *
QUADRANGLE_NAME "SOMERTON" *
QUADRANT SW *
NORTH_LATITUDE 32 33 45.000 *
WEST_LONGITUDE -114 45 00.000 *
SOUTH_LATITUDE 32 30 00.000 *
EAST_LONGITUDE -114 41 15.000 *
PRODUCTION_DATE 1998 02 05 *
RASTER_ORDER LEFT_RIGHT/TOP_BOTTOM *
BAND_ORGANIZATION BIP *
BAND_CONTENT RED *
BAND_CONTENT GREEN *
BAND_CONTENT BLUE *
BITS_PER_PIXEL 8 *
SAMPLES_AND_LINES 6720 7680 *
HORIZONTAL_DATUM NAD83 *
HORIZONTAL_COORDINATE_SYSTEM UTM *
COORDINATE_ZONE 11 *
HORIZONTAL_UNITS METERS *
HORIZONTAL_RESOLUTION 1.000 *
SECONDARY_HORIZONTAL_DATUM NAD27 *
XY_ORIGIN 710850.000 3605460.000 *
SECONDARY_XY_ORIGIN 710928.829 3605266.146 *
NATION US *
STATE AZ *
NW_QUAD_CORNER_XY 711239.838 3605020.416 *
NE_QUAD_CORNER_XY 717108.943 3605146.254 *
SE_QUAD_CORNER_XY 717259.451 3598215.620 *
SW_QUAD_CORNER_XY 711386.271 3598089.909 *
SECONDARY_NW_QUAD_XY 711244.415 3604830.839 *
SECONDARY_NE_QUAD_XY 717113.648 3604956.680 *
SECONDARY_SE_QUAD_XY 717264.151 3598026.264 *
SECONDARY_SW_QUAD_XY 711390.844 3597900.551 *
RMSE_XY 0.911 *
IMAGE_SOURCE "CIR FILM" *
SOURCE_IMAGE_ID "NAPP 9562 58" *
SOURCE_IMAGE_DATE 1996 06 15 *
SOURCE_DEM_DATE 1997 01 01 *
AGENCY "WESTERN MAPPING CENTER (WMC)" *
PRODUCER "ANALYTICAL SURVEYS INC." *
PRODUCTION_SYSTEM "ORBIT OR_RECTIFY V.5.2" *
STANDARD_VERSION 1996 12 *
METADATA_DATE 1998 02 05 *
DATA_FILE_SIZE 154848960 *
BYTE_COUNT 20160 * * * * * * * * * * * * * * * * * * * * * * * * * * * * * * * * * * * * * * * * * * * * * * * * * * * * * * * * * * * * * * * * * * * * * * * * * * * * * * * * * * * * * * * * * * * * * * * * * * * * * * * * * * * * * * * * * * * * * * * * * * * * * * * * * * * * * * * * * * * * * * * * * * * * * * * * * * * * * * * * * * * * * * * * * * * * * * * * * * * * * * * * * * * * * * * * * * * * * * * * * * * * * * *
END_USGS_HEADER *
