BEGIN_USGS_DOQ_HEADER *
QUADRANGLE_NAME "LIGURTA" *
QUADRANT NE *
NORTH_LATITUDE 32 45 00.000 *
WEST_LONGITUDE -114 18 45.000 *
SOUTH_LATITUDE 32 41 15.000 *
EAST_LONGITUDE -114 15 00.000 *
PRODUCTION_DATE 1998 02 27 *
RASTER_ORDER LEFT_RIGHT/TOP_BOTTOM *
BAND_ORGANIZATION BIP *
BAND_CONTENT RED *
BAND_CONTENT GREEN *
BAND_CONTENT BLUE *
BITS_PER_PIXEL 8 *
SAMPLES_AND_LINES 6750 7710 *
HORIZONTAL_DATUM NAD83 *
HORIZONTAL_COORDINATE_SYSTEM UTM *
COORDINATE_ZONE 11 *
HORIZONTAL_UNITS METERS *
HORIZONTAL_RESOLUTION 1.000 *
SECONDARY_HORIZONTAL_DATUM NAD27 *
XY_ORIGIN 751410.000 3627240.000 *
SECONDARY_XY_ORIGIN 751488.367 3627046.544 *
NATION US *
STATE AZ *
NW_QUAD_CORNER_XY 751799.268 3626768.582 *
NE_QUAD_CORNER_XY 757656.922 3626919.061 *
SE_QUAD_CORNER_XY 757836.892 3619987.275 *
SW_QUAD_CORNER_XY 751975.138 3619836.946 *
SECONDARY_NW_QUAD_XY 751804.753 3626578.374 *
SECONDARY_NE_QUAD_XY 757662.535 3626728.857 *
SECONDARY_SE_QUAD_XY 757842.500 3619797.287 *
SECONDARY_SW_QUAD_XY 751980.618 3619646.954 *
RMSE_XY 0.944 *
IMAGE_SOURCE "CIR FILM" *
SOURCE_IMAGE_ID "NAPP 9573 103" *
SOURCE_IMAGE_DATE 1996 09 29 *
SOURCE_IMAGE_ID "NAPP 9573 102" *
SOURCE_IMAGE_DATE 1996 09 29 *
SOURCE_DEM_DATE 1997 01 01 *
AGENCY "WESTERN MAPPING CENTER (WMC)" *
PRODUCER "ANALYTICAL SURVEYS INC." *
PRODUCTION_SYSTEM "ORBIT OR_RECTIFY V.5.2" *
STANDARD_VERSION 1996 12 *
METADATA_DATE 1998 02 27 *
DATA_FILE_SIZE 156147750 *
BYTE_COUNT 20250 * * * * * * * * * * * * * * * * * * * * * * * * * * * * * * * * * * * * * * * * * * * * * * * * * * * * * * * * * * * * * * * * * * * * * * * * * * * * * * * * * * * * * * * * * * * * * * * * * * * * * * * * * * * * * * * * * * * * * * * * * * * * * * * * * * * * * * * * * * * * * * * * * * * * * * * * * * * * * * * * * * * * * * * * * * * * * * * * * * * * * * * * * * * * * * * * * * * * * * * * * * * * * * *
END_USGS_HEADER *
