BEGIN_USGS_DOQ_HEADER *
QUADRANGLE_NAME "LIGURTA" *
QUADRANT NW *
NORTH_LATITUDE 32 45 00.000 *
WEST_LONGITUDE -114 22 30.000 *
SOUTH_LATITUDE 32 41 15.000 *
EAST_LONGITUDE -114 18 45.000 *
PRODUCTION_DATE 1998 02 27 *
RASTER_ORDER LEFT_RIGHT/TOP_BOTTOM *
BAND_ORGANIZATION BIP *
BAND_CONTENT RED *
BAND_CONTENT GREEN *
BAND_CONTENT BLUE *
BITS_PER_PIXEL 8 *
SAMPLES_AND_LINES 6720 7710 *
HORIZONTAL_DATUM NAD83 *
HORIZONTAL_COORDINATE_SYSTEM UTM *
COORDINATE_ZONE 11 *
HORIZONTAL_UNITS METERS *
HORIZONTAL_RESOLUTION 1.000 *
SECONDARY_HORIZONTAL_DATUM NAD27 *
XY_ORIGIN 745560.000 3627090.000 *
SECONDARY_XY_ORIGIN 745638.418 3626896.507 *
NATION US *
STATE AZ *
NW_QUAD_CORNER_XY 745941.739 3626621.570 *
NE_QUAD_CORNER_XY 751799.268 3626768.582 *
SE_QUAD_CORNER_XY 751975.138 3619836.946 *
SW_QUAD_CORNER_XY 746113.509 3619690.080 *
SECONDARY_NW_QUAD_XY 745947.097 3626431.359 *
SECONDARY_NE_QUAD_XY 751804.753 3626578.374 *
SECONDARY_SE_QUAD_XY 751980.618 3619646.954 *
SECONDARY_SW_QUAD_XY 746118.862 3619500.086 *
RMSE_XY 2.794 *
IMAGE_SOURCE "CIR FILM" *
SOURCE_IMAGE_ID "NAPP 9573 112" *
SOURCE_IMAGE_DATE 1996 09 29 *
SOURCE_IMAGE_ID "NAPP 9573 111" *
SOURCE_IMAGE_DATE 1996 09 29 *
SOURCE_IMAGE_ID "NAPP 9561 23" *
SOURCE_IMAGE_DATE 1996 06 09 *
SOURCE_DEM_DATE 1997 01 01 *
AGENCY "WESTERN MAPPING CENTER (WMC)" *
PRODUCER "ANALYTICAL SURVEYS INC." *
PRODUCTION_SYSTEM "ORBIT OR_RECTIFY V.5.2" *
STANDARD_VERSION 1996 12 *
METADATA_DATE 1998 02 27 *
DATA_FILE_SIZE 155453760 *
BYTE_COUNT 20160 * * * * * * * * * * * * * * * * * * * * * * * * * * * * * * * * * * * * * * * * * * * * * * * * * * * * * * * * * * * * * * * * * * * * * * * * * * * * * * * * * * * * * * * * * * * * * * * * * * * * * * * * * * * * * * * * * * * * * * * * * * * * * * * * * * * * * * * * * * * * * * * * * * * * * * * * * * * * * * * * * * * * * * * * * * * * * * * * * * * * * * * * * * * * * * * * * * * * * * * * * * *
END_USGS_HEADER *
