BEGIN_USGS_DOQ_HEADER *
QUADRANGLE_NAME "FORTUNA" *
QUADRANT NW *
NORTH_LATITUDE 32 45 00.000 *
WEST_LONGITUDE -114 30 00.000 *
SOUTH_LATITUDE 32 41 15.000 *
EAST_LONGITUDE -114 26 15.000 *
PRODUCTION_DATE 1998 02 26 *
RASTER_ORDER LEFT_RIGHT/TOP_BOTTOM *
BAND_ORGANIZATION BIP *
BAND_CONTENT RED *
BAND_CONTENT GREEN *
BAND_CONTENT BLUE *
BITS_PER_PIXEL 8 *
SAMPLES_AND_LINES 6750 7710 *
HORIZONTAL_DATUM NAD83 *
HORIZONTAL_COORDINATE_SYSTEM UTM *
COORDINATE_ZONE 11 *
HORIZONTAL_UNITS METERS *
HORIZONTAL_RESOLUTION 1.000 *
SECONDARY_HORIZONTAL_DATUM NAD27 *
XY_ORIGIN 733830.000 3626790.000 *
SECONDARY_XY_ORIGIN 733908.521 3626596.432 *
NATION US *
STATE AZ *
NW_QUAD_CORNER_XY 734227.045 3626337.947 *
NE_QUAD_CORNER_XY 740084.332 3626478.025 *
SE_QUAD_CORNER_XY 740252.004 3619546.679 *
SW_QUAD_CORNER_XY 734390.618 3619406.740 *
SECONDARY_NW_QUAD_XY 734232.147 3626147.730 *
SECONDARY_NE_QUAD_XY 740089.562 3626287.811 *
SECONDARY_SE_QUAD_XY 740257.229 3619356.681 *
SECONDARY_SW_QUAD_XY 734395.716 3619216.739 *
RMSE_XY 1.184 *
IMAGE_SOURCE "CIR FILM" *
SOURCE_IMAGE_ID "NAPP 9561 84" *
SOURCE_IMAGE_DATE 1996 06 09 *
SOURCE_DEM_DATE 1997 01 01 *
AGENCY "WESTERN MAPPING CENTER (WMC)" *
PRODUCER "ANALYTICAL SURVEYS INC." *
PRODUCTION_SYSTEM "ORBIT OR_RECTIFY V.5.2" *
STANDARD_VERSION 1996 12 *
METADATA_DATE 1998 02 26 *
DATA_FILE_SIZE 156147750 *
BYTE_COUNT 20250 * * * * * * * * * * * * * * * * * * * * * * * * * * * * * * * * * * * * * * * * * * * * * * * * * * * * * * * * * * * * * * * * * * * * * * * * * * * * * * * * * * * * * * * * * * * * * * * * * * * * * * * * * * * * * * * * * * * * * * * * * * * * * * * * * * * * * * * * * * * * * * * * * * * * * * * * * * * * * * * * * * * * * * * * * * * * * * * * * * * * * * * * * * * * * * * * * * * * * * * * * * * * * * * * *
END_USGS_HEADER *
