BEGIN_USGS_DOQ_HEADER *
QUADRANGLE_NAME "FORTUNA" *
QUADRANT SE *
NORTH_LATITUDE 32 41 15.000 *
WEST_LONGITUDE -114 26 15.000 *
SOUTH_LATITUDE 32 37 30.000 *
EAST_LONGITUDE -114 22 30.000 *
PRODUCTION_DATE 1998 02 26 *
RASTER_ORDER LEFT_RIGHT/TOP_BOTTOM *
BAND_ORGANIZATION BIP *
BAND_CONTENT RED *
BAND_CONTENT GREEN *
BAND_CONTENT BLUE *
BITS_PER_PIXEL 8 *
SAMPLES_AND_LINES 6750 7710 *
HORIZONTAL_DATUM NAD83 *
HORIZONTAL_COORDINATE_SYSTEM UTM *
COORDINATE_ZONE 11 *
HORIZONTAL_UNITS METERS *
HORIZONTAL_RESOLUTION 1.000 *
SECONDARY_HORIZONTAL_DATUM NAD27 *
XY_ORIGIN 739860.000 3620010.000 *
SECONDARY_XY_ORIGIN 739938.495 3619816.465 *
NATION US *
STATE AZ *
NW_QUAD_CORNER_XY 740252.004 3619546.679 *
NE_QUAD_CORNER_XY 746113.509 3619690.080 *
SE_QUAD_CORNER_XY 746284.987 3612758.645 *
SW_QUAD_CORNER_XY 740419.390 3612615.388 *
SECONDARY_NW_QUAD_XY 740257.229 3619356.681 *
SECONDARY_NE_QUAD_XY 746118.862 3619500.086 *
SECONDARY_SE_QUAD_XY 746290.334 3612568.868 *
SECONDARY_SW_QUAD_XY 740424.609 3612425.607 *
RMSE_XY 1.078 *
IMAGE_SOURCE "CIR FILM" *
SOURCE_IMAGE_ID "NAPP 9561 21" *
SOURCE_IMAGE_DATE 1996 06 09 *
SOURCE_DEM_DATE 1997 01 01 *
AGENCY "WESTERN MAPPING CENTER (WMC)" *
PRODUCER "ANALYTICAL SURVEYS INC." *
PRODUCTION_SYSTEM "ORBIT OR_RECTIFY V.5.2" *
STANDARD_VERSION 1996 12 *
METADATA_DATE 1998 02 26 *
DATA_FILE_SIZE 156147750 *
BYTE_COUNT 20250 * * * * * * * * * * * * * * * * * * * * * * * * * * * * * * * * * * * * * * * * * * * * * * * * * * * * * * * * * * * * * * * * * * * * * * * * * * * * * * * * * * * * * * * * * * * * * * * * * * * * * * * * * * * * * * * * * * * * * * * * * * * * * * * * * * * * * * * * * * * * * * * * * * * * * * * * * * * * * * * * * * * * * * * * * * * * * * * * * * * * * * * * * * * * * * * * * * * * * * * * * * * * * * * * *
END_USGS_HEADER *
