BEGIN_USGS_DOQ_HEADER *
QUADRANGLE_NAME "YUMA EAST" *
QUADRANT NE *
NORTH_LATITUDE 32 45 00.000 *
WEST_LONGITUDE -114 33 45.000 *
SOUTH_LATITUDE 32 41 15.000 *
EAST_LONGITUDE -114 30 00.000 *
PRODUCTION_DATE 1998 02 21 *
RASTER_ORDER LEFT_RIGHT/TOP_BOTTOM *
BAND_ORGANIZATION BIP *
BAND_CONTENT RED *
BAND_CONTENT GREEN *
BAND_CONTENT BLUE *
BITS_PER_PIXEL 8 *
SAMPLES_AND_LINES 6720 7710 *
HORIZONTAL_DATUM NAD83 *
HORIZONTAL_COORDINATE_SYSTEM UTM *
COORDINATE_ZONE 11 *
HORIZONTAL_UNITS METERS *
HORIZONTAL_RESOLUTION 1.000 *
SECONDARY_HORIZONTAL_DATUM NAD27 *
XY_ORIGIN 727980.000 3626670.000 *
SECONDARY_XY_ORIGIN 728058.572 3626476.365 *
NATION US *
STATE AZ *
STATE CA *
NW_QUAD_CORNER_XY 728369.874 3626201.334 *
NE_QUAD_CORNER_XY 734227.045 3626337.947 *
SE_QUAD_CORNER_XY 734390.618 3619406.740 *
SW_QUAD_CORNER_XY 728529.350 3619270.264 *
SECONDARY_NW_QUAD_XY 728374.849 3626011.114 *
SECONDARY_NE_QUAD_XY 734232.147 3626147.730 *
SECONDARY_SE_QUAD_XY 734395.716 3619216.739 *
SECONDARY_SW_QUAD_XY 728534.320 3619080.260 *
RMSE_XY 1.413 *
IMAGE_SOURCE "CIR FILM" *
SOURCE_IMAGE_ID "NAPP 9561 109" *
SOURCE_IMAGE_DATE 1996 06 09 *
SOURCE_DEM_DATE 1997 01 01 *
AGENCY "WESTERN MAPPING CENTER (WMC)" *
PRODUCER "ANALYTICAL SURVEYS INC." *
PRODUCTION_SYSTEM "ORBIT OR_RECTIFY V.5.2" *
STANDARD_VERSION 1996 12 *
METADATA_DATE 1998 02 21 *
DATA_FILE_SIZE 155453760 *
BYTE_COUNT 20160 * * * * * * * * * * * * * * * * * * * * * * * * * * * * * * * * * * * * * * * * * * * * * * * * * * * * * * * * * * * * * * * * * * * * * * * * * * * * * * * * * * * * * * * * * * * * * * * * * * * * * * * * * * * * * * * * * * * * * * * * * * * * * * * * * * * * * * * * * * * * * * * * * * * * * * * * * * * * * * * * * * * * * * * * * * * * * * * * * * * * * * * * * * * * * * * * * * * * * * * * * * * * * *
END_USGS_HEADER *
