BEGIN_USGS_DOQ_HEADER *
QUADRANGLE_NAME "YUMA EAST" *
QUADRANT NW *
NORTH_LATITUDE 32 45 00.000 *
WEST_LONGITUDE -114 37 30.000 *
SOUTH_LATITUDE 32 41 15.000 *
EAST_LONGITUDE -114 33 45.000 *
PRODUCTION_DATE 1998 02 21 *
RASTER_ORDER LEFT_RIGHT/TOP_BOTTOM *
BAND_ORGANIZATION BIP *
BAND_CONTENT RED *
BAND_CONTENT GREEN *
BAND_CONTENT BLUE *
BITS_PER_PIXEL 8 *
SAMPLES_AND_LINES 6720 7710 *
HORIZONTAL_DATUM NAD83 *
HORIZONTAL_COORDINATE_SYSTEM UTM *
COORDINATE_ZONE 11 *
HORIZONTAL_UNITS METERS *
HORIZONTAL_RESOLUTION 1.000 *
SECONDARY_HORIZONTAL_DATUM NAD27 *
XY_ORIGIN 722130.000 3626520.000 *
SECONDARY_XY_ORIGIN 722208.622 3626326.296 *
NATION US *
STATE AZ *
STATE CA *
NW_QUAD_CORNER_XY 722512.817 3626068.187 *
NE_QUAD_CORNER_XY 728369.874 3626201.334 *
SE_QUAD_CORNER_XY 728529.350 3619270.264 *
SW_QUAD_CORNER_XY 722668.196 3619137.250 *
SECONDARY_NW_QUAD_XY 722517.663 3625877.964 *
SECONDARY_NE_QUAD_XY 728374.849 3626011.114 *
SECONDARY_SE_QUAD_XY 728534.320 3619080.260 *
SECONDARY_SW_QUAD_XY 722673.038 3618947.243 *
RMSE_XY 1.060 *
IMAGE_SOURCE "CIR FILM" *
SOURCE_IMAGE_ID "NAPP 9566 222" *
SOURCE_IMAGE_DATE 1996 06 16 *
SOURCE_DEM_DATE 1997 01 01 *
AGENCY "WESTERN MAPPING CENTER (WMC)" *
PRODUCER "ANALYTICAL SURVEYS INC." *
PRODUCTION_SYSTEM "ORBIT OR_RECTIFY V.5.2" *
STANDARD_VERSION 1996 12 *
METADATA_DATE 1998 02 21 *
DATA_FILE_SIZE 155453760 *
BYTE_COUNT 20160 * * * * * * * * * * * * * * * * * * * * * * * * * * * * * * * * * * * * * * * * * * * * * * * * * * * * * * * * * * * * * * * * * * * * * * * * * * * * * * * * * * * * * * * * * * * * * * * * * * * * * * * * * * * * * * * * * * * * * * * * * * * * * * * * * * * * * * * * * * * * * * * * * * * * * * * * * * * * * * * * * * * * * * * * * * * * * * * * * * * * * * * * * * * * * * * * * * * * * * * * * * * * * *
END_USGS_HEADER *
