BEGIN_USGS_DOQ_HEADER *
QUADRANGLE_NAME "YUMA WEST" *
QUADRANT NE *
NORTH_LATITUDE 32 45 00.000 *
WEST_LONGITUDE -114 41 15.000 *
SOUTH_LATITUDE 32 41 15.000 *
EAST_LONGITUDE -114 37 30.000 *
PRODUCTION_DATE 1998 02 27 *
RASTER_ORDER LEFT_RIGHT/TOP_BOTTOM *
BAND_ORGANIZATION BIP *
BAND_CONTENT RED *
BAND_CONTENT GREEN *
BAND_CONTENT BLUE *
BITS_PER_PIXEL 8 *
SAMPLES_AND_LINES 6690 7710 *
HORIZONTAL_DATUM NAD83 *
HORIZONTAL_COORDINATE_SYSTEM UTM *
COORDINATE_ZONE 11 *
HORIZONTAL_UNITS METERS *
HORIZONTAL_RESOLUTION 1.000 *
SECONDARY_HORIZONTAL_DATUM NAD27 *
XY_ORIGIN 716280.000 3626400.000 *
SECONDARY_XY_ORIGIN 716358.672 3626206.228 *
NATION US *
STATE AZ *
STATE CA *
NW_QUAD_CORNER_XY 716655.870 3625938.504 *
NE_QUAD_CORNER_XY 722512.817 3626068.187 *
SE_QUAD_CORNER_XY 722668.196 3619137.250 *
SW_QUAD_CORNER_XY 716807.152 3619007.696 *
SECONDARY_NW_QUAD_XY 716660.589 3625748.278 *
SECONDARY_NE_QUAD_XY 722517.663 3625877.964 *
SECONDARY_SE_QUAD_XY 722673.038 3618947.243 *
SECONDARY_SW_QUAD_XY 716811.867 3618817.687 *
RMSE_XY 1.836 *
IMAGE_SOURCE "CIR FILM" *
SOURCE_IMAGE_ID "NAPP 9566 160" *
SOURCE_IMAGE_DATE 1996 06 16 *
SOURCE_DEM_DATE 1997 01 01 *
AGENCY "WESTERN MAPPING CENTER (WMC)" *
PRODUCER "ANALYTICAL SURVEYS INC." *
PRODUCTION_SYSTEM "ORBIT OR_RECTIFY V.5.2" *
STANDARD_VERSION 1996 12 *
METADATA_DATE 1998 02 27 *
DATA_FILE_SIZE 154759770 *
BYTE_COUNT 20070 * * * * * * * * * * * * * * * * * * * * * * * * * * * * * * * * * * * * * * * * * * * * * * * * * * * * * * * * * * * * * * * * * * * * * * * * * * * * * * * * * * * * * * * * * * * * * * * * * * * * * * * * * * * * * * * * * * * * * * * * * * * * * * * * * * * * * * * * * * * * * * * * * * * * * * * * * * * * * * * * * * * * * * * * * * * * * * * * * * * * * * * * * * * * * * * * * * * * * * * * * * * * *
END_USGS_HEADER *
