BEGIN_USGS_DOQ_HEADER *
QUADRANGLE_NAME "YUMA WEST" *
QUADRANT NW *
NORTH_LATITUDE 32 45 00.000 *
WEST_LONGITUDE -114 45 00.000 *
SOUTH_LATITUDE 32 41 15.000 *
EAST_LONGITUDE -114 41 15.000 *
PRODUCTION_DATE 1998 02 27 *
RASTER_ORDER LEFT_RIGHT/TOP_BOTTOM *
BAND_ORGANIZATION BIP *
BAND_CONTENT RED *
BAND_CONTENT GREEN *
BAND_CONTENT BLUE *
BITS_PER_PIXEL 8 *
SAMPLES_AND_LINES 6720 7680 *
HORIZONTAL_DATUM NAD83 *
HORIZONTAL_COORDINATE_SYSTEM UTM *
COORDINATE_ZONE 11 *
HORIZONTAL_UNITS METERS *
HORIZONTAL_RESOLUTION 1.000 *
SECONDARY_HORIZONTAL_DATUM NAD27 *
XY_ORIGIN 710400.000 3626250.000 *
SECONDARY_XY_ORIGIN 710478.723 3626056.159 *
NATION US *
STATE AZ *
STATE CA *
NATION MX *
NW_QUAD_CORNER_XY 710799.030 3625812.286 *
NE_QUAD_CORNER_XY 716655.870 3625938.504 *
SE_QUAD_CORNER_XY 716807.152 3619007.696 *
SW_QUAD_CORNER_XY 710946.218 3618881.604 *
SECONDARY_NW_QUAD_XY 710803.622 3625622.057 *
SECONDARY_NE_QUAD_XY 716660.589 3625748.278 *
SECONDARY_SE_QUAD_XY 716811.867 3618817.687 *
SECONDARY_SW_QUAD_XY 710950.804 3618691.592 *
RMSE_XY 3.010 *
IMAGE_SOURCE "CIR FILM" *
SOURCE_IMAGE_ID "NAPP 9562 52" *
SOURCE_IMAGE_DATE 1996 06 15 *
SOURCE_DEM_DATE 1997 01 01 *
AGENCY "WESTERN MAPPING CENTER (WMC)" *
PRODUCER "ANALYTICAL SURVEYS INC." *
PRODUCTION_SYSTEM "ORBIT OR_RECTIFY V.5.2" *
STANDARD_VERSION 1996 12 *
METADATA_DATE 1998 02 27 *
DATA_FILE_SIZE 154848960 *
BYTE_COUNT 20160 * * * * * * * * * * * * * * * * * * * * * * * * * * * * * * * * * * * * * * * * * * * * * * * * * * * * * * * * * * * * * * * * * * * * * * * * * * * * * * * * * * * * * * * * * * * * * * * * * * * * * * * * * * * * * * * * * * * * * * * * * * * * * * * * * * * * * * * * * * * * * * * * * * * * * * * * * * * * * * * * * * * * * * * * * * * * * * * * * * * * * * * * * * * * * * * * * * * * * * * * * * * * *
END_USGS_HEADER *
