BEGIN_USGS_DOQ_HEADER *
QUADRANGLE_NAME "YUMA WEST" *
QUADRANT SE *
NORTH_LATITUDE 32 41 15.000 *
WEST_LONGITUDE -114 41 15.000 *
SOUTH_LATITUDE 32 37 30.000 *
EAST_LONGITUDE -114 37 30.000 *
PRODUCTION_DATE 1998 02 27 *
RASTER_ORDER LEFT_RIGHT/TOP_BOTTOM *
BAND_ORGANIZATION BIP *
BAND_CONTENT RED *
BAND_CONTENT GREEN *
BAND_CONTENT BLUE *
BITS_PER_PIXEL 8 *
SAMPLES_AND_LINES 6720 7710 *
HORIZONTAL_DATUM NAD83 *
HORIZONTAL_COORDINATE_SYSTEM UTM *
COORDINATE_ZONE 11 *
HORIZONTAL_UNITS METERS *
HORIZONTAL_RESOLUTION 1.000 *
SECONDARY_HORIZONTAL_DATUM NAD27 *
XY_ORIGIN 716430.000 3619470.000 *
SECONDARY_XY_ORIGIN 716508.705 3619276.221 *
NATION US *
STATE AZ *
NW_QUAD_CORNER_XY 716807.152 3619007.696 *
NE_QUAD_CORNER_XY 722668.196 3619137.250 *
SE_QUAD_CORNER_XY 722823.310 3612206.369 *
SW_QUAD_CORNER_XY 716958.177 3612076.946 *
SECONDARY_NW_QUAD_XY 716811.867 3618817.687 *
SECONDARY_NE_QUAD_XY 722673.038 3618947.243 *
SECONDARY_SE_QUAD_XY 722828.147 3612016.580 *
SECONDARY_SW_QUAD_XY 716962.887 3611887.154 *
RMSE_XY 2.990 *
IMAGE_SOURCE "CIR FILM" *
SOURCE_IMAGE_ID "NAPP 9566 158" *
SOURCE_IMAGE_DATE 1996 06 16 *
SOURCE_DEM_DATE 1997 01 01 *
AGENCY "WESTERN MAPPING CENTER (WMC)" *
PRODUCER "ANALYTICAL SURVEYS INC." *
PRODUCTION_SYSTEM "ORBIT OR_RECTIFY V.5.2" *
STANDARD_VERSION 1996 12 *
METADATA_DATE 1998 02 27 *
DATA_FILE_SIZE 155453760 *
BYTE_COUNT 20160 * * * * * * * * * * * * * * * * * * * * * * * * * * * * * * * * * * * * * * * * * * * * * * * * * * * * * * * * * * * * * * * * * * * * * * * * * * * * * * * * * * * * * * * * * * * * * * * * * * * * * * * * * * * * * * * * * * * * * * * * * * * * * * * * * * * * * * * * * * * * * * * * * * * * * * * * * * * * * * * * * * * * * * * * * * * * * * * * * * * * * * * * * * * * * * * * * * * * * * * * * * * * * * *
END_USGS_HEADER *
