BEGIN_USGS_DOQ_HEADER *
QUADRANGLE_NAME "GRAYS WELL NE" *
QUADRANT NW *
NORTH_LATITUDE 32 45 00.000 *
WEST_LONGITUDE -114 52 30.000 *
SOUTH_LATITUDE 32 41 15.000 *
EAST_LONGITUDE -114 48 45.000 *
PRODUCTION_DATE 1998 02 24 *
RASTER_ORDER LEFT_RIGHT/TOP_BOTTOM *
BAND_ORGANIZATION BIP *
BAND_CONTENT RED *
BAND_CONTENT GREEN *
BAND_CONTENT BLUE *
BITS_PER_PIXEL 8 *
SAMPLES_AND_LINES 6690 7680 *
HORIZONTAL_DATUM NAD83 *
HORIZONTAL_COORDINATE_SYSTEM UTM *
COORDINATE_ZONE 11 *
HORIZONTAL_UNITS METERS *
HORIZONTAL_RESOLUTION 1.000 *
SECONDARY_HORIZONTAL_DATUM NAD27 *
XY_ORIGIN 698700.000 3626010.000 *
SECONDARY_XY_ORIGIN 698779.063 3625816.039 *
NATION US *
STATE CA *
NATION MX *
NW_QUAD_CORNER_XY 699085.663 3625570.240 *
NE_QUAD_CORNER_XY 704942.296 3625689.532 *
SE_QUAD_CORNER_XY 705085.388 3618758.972 *
SW_QUAD_CORNER_XY 699224.661 3618639.800 *
SECONDARY_NW_QUAD_XY 699090.000 3625380.006 *
SECONDARY_NE_QUAD_XY 704946.760 3625499.300 *
SECONDARY_SE_QUAD_XY 705089.847 3618568.957 *
SECONDARY_SW_QUAD_XY 699228.993 3618449.783 *
RMSE_XY 2.336 *
IMAGE_SOURCE "CIR FILM" *
SOURCE_IMAGE_ID "NAPP 9562 167" *
SOURCE_IMAGE_DATE 1996 06 15 *
SOURCE_DEM_DATE 1997 01 01 *
AGENCY "WESTERN MAPPING CENTER (WMC)" *
PRODUCER "ANALYTICAL SURVEYS INC." *
PRODUCTION_SYSTEM "ORBIT OR_RECTIFY V.5.2" *
STANDARD_VERSION 1996 12 *
METADATA_DATE 1998 02 24 *
DATA_FILE_SIZE 154157670 *
BYTE_COUNT 20070 * * * * * * * * * * * * * * * * * * * * * * * * * * * * * * * * * * * * * * * * * * * * * * * * * * * * * * * * * * * * * * * * * * * * * * * * * * * * * * * * * * * * * * * * * * * * * * * * * * * * * * * * * * * * * * * * * * * * * * * * * * * * * * * * * * * * * * * * * * * * * * * * * * * * * * * * * * * * * * * * * * * * * * * * * * * * * * * * * * * * * * * * * * * * * * * * * * * * * * * * * * * * *
END_USGS_HEADER *
