BEGIN_USGS_DOQ_HEADER *
QUADRANGLE_NAME "GRAYS WELL NE" *
QUADRANT SE *
NORTH_LATITUDE 32 41 15.000 *
WEST_LONGITUDE -114 48 45.000 *
SOUTH_LATITUDE 32 37 30.000 *
EAST_LONGITUDE -114 45 00.000 *
PRODUCTION_DATE 1998 02 24 *
RASTER_ORDER LEFT_RIGHT/TOP_BOTTOM *
BAND_ORGANIZATION BIP *
BAND_CONTENT RED *
BAND_CONTENT GREEN *
BAND_CONTENT BLUE *
BITS_PER_PIXEL 8 *
SAMPLES_AND_LINES 6720 7680 *
HORIZONTAL_DATUM NAD83 *
HORIZONTAL_COORDINATE_SYSTEM UTM *
COORDINATE_ZONE 11 *
HORIZONTAL_UNITS METERS *
HORIZONTAL_RESOLUTION 1.000 *
SECONDARY_HORIZONTAL_DATUM NAD27 *
XY_ORIGIN 704700.000 3619200.000 *
SECONDARY_XY_ORIGIN 704778.927 3619006.094 *
NATION MX *
NATION US *
STATE AZ *
NW_QUAD_CORNER_XY 705085.388 3618758.972 *
NE_QUAD_CORNER_XY 710946.218 3618881.604 *
SE_QUAD_CORNER_XY 711093.153 3611950.981 *
SW_QUAD_CORNER_XY 705228.236 3611828.472 *
SECONDARY_NW_QUAD_XY 705089.847 3618568.957 *
SECONDARY_NE_QUAD_XY 710950.804 3618691.592 *
SECONDARY_SE_QUAD_XY 711097.736 3611761.186 *
SECONDARY_SW_QUAD_XY 705232.691 3611638.674 *
RMSE_XY 1.996 *
IMAGE_SOURCE "CIR FILM" *
SOURCE_IMAGE_ID "NAPP 9562 71" *
SOURCE_IMAGE_DATE 1996 06 15 *
SOURCE_DEM_DATE 1997 01 01 *
AGENCY "WESTERN MAPPING CENTER (WMC)" *
PRODUCER "ANALYTICAL SURVEYS INC." *
PRODUCTION_SYSTEM "ORBIT OR_RECTIFY V.5.2" *
STANDARD_VERSION 1996 12 *
METADATA_DATE 1998 02 24 *
DATA_FILE_SIZE 154848960 *
BYTE_COUNT 20160 * * * * * * * * * * * * * * * * * * * * * * * * * * * * * * * * * * * * * * * * * * * * * * * * * * * * * * * * * * * * * * * * * * * * * * * * * * * * * * * * * * * * * * * * * * * * * * * * * * * * * * * * * * * * * * * * * * * * * * * * * * * * * * * * * * * * * * * * * * * * * * * * * * * * * * * * * * * * * * * * * * * * * * * * * * * * * * * * * * * * * * * * * * * * * * * * * * * * * * * * * * * * * *
END_USGS_HEADER *
