BEGIN_USGS_DOQ_HEADER *
QUADRANGLE_NAME "GRAYS WELL" *
QUADRANT NE *
NORTH_LATITUDE 32 45 00.000 *
WEST_LONGITUDE -114 56 15.000 *
SOUTH_LATITUDE 32 41 15.000 *
EAST_LONGITUDE -114 52 30.000 *
PRODUCTION_DATE 1998 02 20 *
RASTER_ORDER LEFT_RIGHT/TOP_BOTTOM *
BAND_ORGANIZATION BIP *
BAND_CONTENT RED *
BAND_CONTENT GREEN *
BAND_CONTENT BLUE *
BITS_PER_PIXEL 8 *
SAMPLES_AND_LINES 6690 7680 *
HORIZONTAL_DATUM NAD83 *
HORIZONTAL_COORDINATE_SYSTEM UTM *
COORDINATE_ZONE 11 *
HORIZONTAL_UNITS METERS *
HORIZONTAL_RESOLUTION 1.000 *
SECONDARY_HORIZONTAL_DATUM NAD27 *
XY_ORIGIN 692850.000 3625890.000 *
SECONDARY_XY_ORIGIN 692929.231 3625695.979 *
NATION US *
STATE CA *
NATION MX *
NW_QUAD_CORNER_XY 693229.130 3625454.412 *
NE_QUAD_CORNER_XY 699085.663 3625570.240 *
SE_QUAD_CORNER_XY 699224.661 3618639.800 *
SW_QUAD_CORNER_XY 693364.033 3618524.087 *
SECONDARY_NW_QUAD_XY 693233.338 3625264.175 *
SECONDARY_NE_QUAD_XY 699090.000 3625380.006 *
SECONDARY_SE_QUAD_XY 699228.993 3618449.783 *
SECONDARY_SW_QUAD_XY 693368.237 3618334.067 *
RMSE_XY 2.454 *
IMAGE_SOURCE "CIR FILM" *
SOURCE_IMAGE_ID "NAPP 9562 180" *
SOURCE_IMAGE_DATE 1996 06 15 *
SOURCE_DEM_DATE 1997 01 01 *
AGENCY "WESTERN MAPPING CENTER (WMC)" *
PRODUCER "ANALYTICAL SURVEYS INC." *
PRODUCTION_SYSTEM "ORBIT OR_RECTIFY V.5.2" *
STANDARD_VERSION 1996 12 *
METADATA_DATE 1998 02 20 *
DATA_FILE_SIZE 154157670 *
BYTE_COUNT 20070 * * * * * * * * * * * * * * * * * * * * * * * * * * * * * * * * * * * * * * * * * * * * * * * * * * * * * * * * * * * * * * * * * * * * * * * * * * * * * * * * * * * * * * * * * * * * * * * * * * * * * * * * * * * * * * * * * * * * * * * * * * * * * * * * * * * * * * * * * * * * * * * * * * * * * * * * * * * * * * * * * * * * * * * * * * * * * * * * * * * * * * * * * * * * * * * * * * * * * * * * * * * * *
END_USGS_HEADER *
