BEGIN_USGS_DOQ_HEADER *
QUADRANGLE_NAME "GRAYS WELL" *
QUADRANT NW *
NORTH_LATITUDE 32 45 00.000 *
WEST_LONGITUDE -115 00 00.000 *
SOUTH_LATITUDE 32 41 15.000 *
EAST_LONGITUDE -114 56 15.000 *
PRODUCTION_DATE 1998 02 20 *
RASTER_ORDER LEFT_RIGHT/TOP_BOTTOM *
BAND_ORGANIZATION BIP *
BAND_CONTENT RED *
BAND_CONTENT GREEN *
BAND_CONTENT BLUE *
BITS_PER_PIXEL 8 *
SAMPLES_AND_LINES 6720 7680 *
HORIZONTAL_DATUM NAD83 *
HORIZONTAL_COORDINATE_SYSTEM UTM *
COORDINATE_ZONE 11 *
HORIZONTAL_UNITS METERS *
HORIZONTAL_RESOLUTION 1.000 *
SECONDARY_HORIZONTAL_DATUM NAD27 *
XY_ORIGIN 686970.000 3625770.000 *
SECONDARY_XY_ORIGIN 687049.400 3625575.919 *
NATION US *
STATE CA *
NATION MX *
NW_QUAD_CORNER_XY 687372.692 3625342.046 *
NE_QUAD_CORNER_XY 693229.130 3625454.412 *
SE_QUAD_CORNER_XY 693364.033 3618524.087 *
SW_QUAD_CORNER_XY 687503.502 3618411.834 *
SECONDARY_NW_QUAD_XY 687376.773 3625151.807 *
SECONDARY_NE_QUAD_XY 693233.338 3625264.175 *
SECONDARY_SE_QUAD_XY 693368.237 3618334.067 *
SECONDARY_SW_QUAD_XY 687507.579 3618221.811 *
RMSE_XY 1.284 *
IMAGE_SOURCE "CIR FILM" *
SOURCE_IMAGE_ID "NAPP 9563 49" *
SOURCE_IMAGE_DATE 1996 06 15 *
SOURCE_DEM_DATE 1997 01 01 *
AGENCY "WESTERN MAPPING CENTER (WMC)" *
PRODUCER "ANALYTICAL SURVEYS INC." *
PRODUCTION_SYSTEM "ORBIT OR_RECTIFY V.5.2" *
STANDARD_VERSION 1996 12 *
METADATA_DATE 1998 02 20 *
DATA_FILE_SIZE 154848960 *
BYTE_COUNT 20160 * * * * * * * * * * * * * * * * * * * * * * * * * * * * * * * * * * * * * * * * * * * * * * * * * * * * * * * * * * * * * * * * * * * * * * * * * * * * * * * * * * * * * * * * * * * * * * * * * * * * * * * * * * * * * * * * * * * * * * * * * * * * * * * * * * * * * * * * * * * * * * * * * * * * * * * * * * * * * * * * * * * * * * * * * * * * * * * * * * * * * * * * * * * * * * * * * * * * * * * * * * * * * *
END_USGS_HEADER *
