BEGIN_USGS_DOQ_HEADER *
QUADRANGLE_NAME "RED BLUFF MOUNTAIN WEST" *
QUADRANT NE *
NORTH_LATITUDE 32 52 30.000 *
WEST_LONGITUDE -114 11 15.000 *
SOUTH_LATITUDE 32 48 45.000 *
EAST_LONGITUDE -114 07 30.000 *
PRODUCTION_DATE 1998 02 27 *
RASTER_ORDER LEFT_RIGHT/TOP_BOTTOM *
BAND_ORGANIZATION BIP *
BAND_CONTENT RED *
BAND_CONTENT GREEN *
BAND_CONTENT BLUE *
BITS_PER_PIXEL 8 *
SAMPLES_AND_LINES 6750 7710 *
HORIZONTAL_DATUM NAD83 *
HORIZONTAL_COORDINATE_SYSTEM UTM *
COORDINATE_ZONE 11 *
HORIZONTAL_UNITS METERS *
HORIZONTAL_RESOLUTION 1.000 *
SECONDARY_HORIZONTAL_DATUM NAD27 *
XY_ORIGIN 762750.000 3641400.000 *
SECONDARY_XY_ORIGIN 762828.215 3641206.490 *
NATION US *
STATE AZ *
NW_QUAD_CORNER_XY 763145.620 3640937.047 *
NE_QUAD_CORNER_XY 768995.309 3641094.774 *
SE_QUAD_CORNER_XY 769184.123 3634162.574 *
SW_QUAD_CORNER_XY 763330.319 3634005.001 *
SECONDARY_NW_QUAD_XY 763151.373 3640746.414 *
SECONDARY_NE_QUAD_XY 769001.190 3640904.146 *
SECONDARY_SE_QUAD_XY 769189.998 3633972.160 *
SECONDARY_SW_QUAD_XY 763336.066 3633814.584 *
RMSE_XY 1.576 *
IMAGE_SOURCE "CIR FILM" *
SOURCE_IMAGE_ID "NAPP 9574 147" *
SOURCE_IMAGE_DATE 1996 09 28 *
SOURCE_DEM_DATE 1997 01 01 *
AGENCY "WESTERN MAPPING CENTER (WMC)" *
PRODUCER "ANALYTICAL SURVEYS INC." *
PRODUCTION_SYSTEM "ORBIT OR_RECTIFY V.5.2" *
STANDARD_VERSION 1996 12 *
METADATA_DATE 1998 02 27 *
DATA_FILE_SIZE 156147750 *
BYTE_COUNT 20250 * * * * * * * * * * * * * * * * * * * * * * * * * * * * * * * * * * * * * * * * * * * * * * * * * * * * * * * * * * * * * * * * * * * * * * * * * * * * * * * * * * * * * * * * * * * * * * * * * * * * * * * * * * * * * * * * * * * * * * * * * * * * * * * * * * * * * * * * * * * * * * * * * * * * * * * * * * * * * * * * * * * * * * * * * * * * * * * * * * * * * * * * * * * * * * * * * * * * * * * * * * * * * * * * *
END_USGS_HEADER *
