BEGIN_USGS_DOQ_HEADER *
QUADRANGLE_NAME "RED BLUFF MOUNTAIN WEST" *
QUADRANT SW *
NORTH_LATITUDE 32 48 45.000 *
WEST_LONGITUDE -114 15 00.000 *
SOUTH_LATITUDE 32 45 00.000 *
EAST_LONGITUDE -114 11 15.000 *
PRODUCTION_DATE 1998 02 27 *
RASTER_ORDER LEFT_RIGHT/TOP_BOTTOM *
BAND_ORGANIZATION BIP *
BAND_CONTENT RED *
BAND_CONTENT GREEN *
BAND_CONTENT BLUE *
BITS_PER_PIXEL 8 *
SAMPLES_AND_LINES 6750 7710 *
HORIZONTAL_DATUM NAD83 *
HORIZONTAL_COORDINATE_SYSTEM UTM *
COORDINATE_ZONE 11 *
HORIZONTAL_UNITS METERS *
HORIZONTAL_RESOLUTION 1.000 *
SECONDARY_HORIZONTAL_DATUM NAD27 *
XY_ORIGIN 757080.000 3634320.000 *
SECONDARY_XY_ORIGIN 757158.294 3634126.513 *
NATION US *
STATE AZ *
NW_QUAD_CORNER_XY 757476.645 3633850.901 *
NE_QUAD_CORNER_XY 763330.319 3634005.001 *
SE_QUAD_CORNER_XY 763514.704 3627073.009 *
SW_QUAD_CORNER_XY 757656.922 3626919.061 *
SECONDARY_NW_QUAD_XY 757482.264 3633660.481 *
SECONDARY_NE_QUAD_XY 763336.066 3633814.584 *
SECONDARY_SE_QUAD_XY 763520.445 3626882.807 *
SECONDARY_SW_QUAD_XY 757662.535 3626728.857 *
RMSE_XY 2.204 *
IMAGE_SOURCE "CIR FILM" *
SOURCE_IMAGE_ID "NAPP 9574 117" *
SOURCE_IMAGE_DATE 1996 09 28 *
SOURCE_DEM_DATE 1997 01 01 *
AGENCY "WESTERN MAPPING CENTER (WMC)" *
PRODUCER "ANALYTICAL SURVEYS INC." *
PRODUCTION_SYSTEM "ORBIT OR_RECTIFY V.5.2" *
STANDARD_VERSION 1996 12 *
METADATA_DATE 1998 02 27 *
DATA_FILE_SIZE 156147750 *
BYTE_COUNT 20250 * * * * * * * * * * * * * * * * * * * * * * * * * * * * * * * * * * * * * * * * * * * * * * * * * * * * * * * * * * * * * * * * * * * * * * * * * * * * * * * * * * * * * * * * * * * * * * * * * * * * * * * * * * * * * * * * * * * * * * * * * * * * * * * * * * * * * * * * * * * * * * * * * * * * * * * * * * * * * * * * * * * * * * * * * * * * * * * * * * * * * * * * * * * * * * * * * * * * * * * * * * * * * * * * *
END_USGS_HEADER *
