BEGIN_USGS_DOQ_HEADER *
QUADRANGLE_NAME "DOME" *
QUADRANT NW *
NORTH_LATITUDE 32 52 30.000 *
WEST_LONGITUDE -114 22 30.000 *
SOUTH_LATITUDE 32 48 45.000 *
EAST_LONGITUDE -114 18 45.000 *
PRODUCTION_DATE 1998 02 25 *
RASTER_ORDER LEFT_RIGHT/TOP_BOTTOM *
BAND_ORGANIZATION BIP *
BAND_CONTENT RED *
BAND_CONTENT GREEN *
BAND_CONTENT BLUE *
BITS_PER_PIXEL 8 *
SAMPLES_AND_LINES 6750 7710 *
HORIZONTAL_DATUM NAD83 *
HORIZONTAL_COORDINATE_SYSTEM UTM *
COORDINATE_ZONE 11 *
HORIZONTAL_UNITS METERS *
HORIZONTAL_RESOLUTION 1.000 *
SECONDARY_HORIZONTAL_DATUM NAD27 *
XY_ORIGIN 745200.000 3640950.000 *
SECONDARY_XY_ORIGIN 745278.357 3640756.385 *
NATION US *
STATE AZ *
NW_QUAD_CORNER_XY 745597.319 3640484.714 *
NE_QUAD_CORNER_XY 751446.628 3640632.017 *
SE_QUAD_CORNER_XY 751623.098 3633700.272 *
SW_QUAD_CORNER_XY 745769.676 3633553.115 *
SECONDARY_NW_QUAD_XY 745602.688 3640294.072 *
SECONDARY_NE_QUAD_XY 751452.125 3640441.378 *
SECONDARY_SE_QUAD_XY 751628.589 3633509.849 *
SECONDARY_SW_QUAD_XY 745775.039 3633362.688 *
RMSE_XY 2.140 *
IMAGE_SOURCE "CIR FILM" *
SOURCE_IMAGE_ID "NAPP 9573 116" *
SOURCE_IMAGE_DATE 1996 09 29 *
SOURCE_DEM_DATE 1997 01 01 *
AGENCY "WESTERN MAPPING CENTER (WMC)" *
PRODUCER "ANALYTICAL SURVEYS INC." *
PRODUCTION_SYSTEM "ORBIT OR_RECTIFY V.5.2" *
STANDARD_VERSION 1996 12 *
METADATA_DATE 1998 02 25 *
DATA_FILE_SIZE 156147750 *
BYTE_COUNT 20250 * * * * * * * * * * * * * * * * * * * * * * * * * * * * * * * * * * * * * * * * * * * * * * * * * * * * * * * * * * * * * * * * * * * * * * * * * * * * * * * * * * * * * * * * * * * * * * * * * * * * * * * * * * * * * * * * * * * * * * * * * * * * * * * * * * * * * * * * * * * * * * * * * * * * * * * * * * * * * * * * * * * * * * * * * * * * * * * * * * * * * * * * * * * * * * * * * * * * * * * * * * * * * * * * *
END_USGS_HEADER *
