BEGIN_USGS_DOQ_HEADER *
QUADRANGLE_NAME "LAGUNA DAM" *
QUADRANT NE *
NORTH_LATITUDE 32 52 30.000 *
WEST_LONGITUDE -114 26 15.000 *
SOUTH_LATITUDE 32 48 45.000 *
EAST_LONGITUDE -114 22 30.000 *
PRODUCTION_DATE 1998 02 12 *
RASTER_ORDER LEFT_RIGHT/TOP_BOTTOM *
BAND_ORGANIZATION BIP *
BAND_CONTENT RED *
BAND_CONTENT GREEN *
BAND_CONTENT BLUE *
BITS_PER_PIXEL 8 *
SAMPLES_AND_LINES 6720 7710 *
HORIZONTAL_DATUM NAD83 *
HORIZONTAL_COORDINATE_SYSTEM UTM *
COORDINATE_ZONE 11 *
HORIZONTAL_UNITS METERS *
HORIZONTAL_RESOLUTION 1.000 *
SECONDARY_HORIZONTAL_DATUM NAD27 *
XY_ORIGIN 739350.000 3640800.000 *
SECONDARY_XY_ORIGIN 739428.400 3640606.354 *
NATION US *
STATE AZ *
NW_QUAD_CORNER_XY 739748.131 3640340.885 *
NE_QUAD_CORNER_XY 745597.319 3640484.714 *
SE_QUAD_CORNER_XY 745769.676 3633553.115 *
SW_QUAD_CORNER_XY 739916.375 3633409.427 *
SECONDARY_NW_QUAD_XY 739753.372 3640150.239 *
SECONDARY_NE_QUAD_XY 745602.688 3640294.072 *
SECONDARY_SE_QUAD_XY 745775.039 3633362.688 *
SECONDARY_SW_QUAD_XY 739921.610 3633218.997 *
RMSE_XY 1.779 *
IMAGE_SOURCE "CIR FILM" *
SOURCE_IMAGE_ID "NAPP 9561 27" *
SOURCE_IMAGE_DATE 1996 06 09 *
SOURCE_DEM_DATE 1997 01 01 *
AGENCY "WESTERN MAPPING CENTER (WMC)" *
PRODUCER "ANALYTICAL SURVEYS INC." *
PRODUCTION_SYSTEM "ORBIT OR_RECTIFY V.5.2" *
STANDARD_VERSION 1996 12 *
METADATA_DATE 1998 02 15 *
DATA_FILE_SIZE 155453760 *
BYTE_COUNT 20160 * * * * * * * * * * * * * * * * * * * * * * * * * * * * * * * * * * * * * * * * * * * * * * * * * * * * * * * * * * * * * * * * * * * * * * * * * * * * * * * * * * * * * * * * * * * * * * * * * * * * * * * * * * * * * * * * * * * * * * * * * * * * * * * * * * * * * * * * * * * * * * * * * * * * * * * * * * * * * * * * * * * * * * * * * * * * * * * * * * * * * * * * * * * * * * * * * * * * * * * * * * * * * * *
END_USGS_HEADER *
