BEGIN_USGS_DOQ_HEADER *
QUADRANGLE_NAME "LAGUNA DAM" *
QUADRANT SE *
NORTH_LATITUDE 32 48 45.000 *
WEST_LONGITUDE -114 26 15.000 *
SOUTH_LATITUDE 32 45 00.000 *
EAST_LONGITUDE -114 22 30.000 *
PRODUCTION_DATE 1998 02 12 *
RASTER_ORDER LEFT_RIGHT/TOP_BOTTOM *
BAND_ORGANIZATION BIP *
BAND_CONTENT RED *
BAND_CONTENT GREEN *
BAND_CONTENT BLUE *
BITS_PER_PIXEL 8 *
SAMPLES_AND_LINES 6720 7710 *
HORIZONTAL_DATUM NAD83 *
HORIZONTAL_COORDINATE_SYSTEM UTM *
COORDINATE_ZONE 11 *
HORIZONTAL_UNITS METERS *
HORIZONTAL_RESOLUTION 1.000 *
SECONDARY_HORIZONTAL_DATUM NAD27 *
XY_ORIGIN 739530.000 3633870.000 *
SECONDARY_XY_ORIGIN 739608.435 3633676.410 *
NATION US *
STATE AZ *
NW_QUAD_CORNER_XY 739916.375 3633409.427 *
NE_QUAD_CORNER_XY 745769.676 3633553.115 *
SE_QUAD_CORNER_XY 745941.739 3626621.570 *
SW_QUAD_CORNER_XY 740084.332 3626478.025 *
SECONDARY_NW_QUAD_XY 739921.610 3633218.997 *
SECONDARY_NE_QUAD_XY 745775.039 3633362.688 *
SECONDARY_SE_QUAD_XY 745947.097 3626431.359 *
SECONDARY_SW_QUAD_XY 740089.562 3626287.811 *
RMSE_XY 1.022 *
IMAGE_SOURCE "CIR FILM" *
SOURCE_IMAGE_ID "NAPP 9561 25" *
SOURCE_IMAGE_DATE 1996 06 09 *
SOURCE_DEM_DATE 1997 01 01 *
AGENCY "WESTERN MAPPING CENTER (WMC)" *
PRODUCER "ANALYTICAL SURVEYS INC." *
PRODUCTION_SYSTEM "ORBIT OR_RECTIFY V.5.2" *
STANDARD_VERSION 1996 12 *
METADATA_DATE 1998 02 15 *
DATA_FILE_SIZE 155453760 *
BYTE_COUNT 20160 * * * * * * * * * * * * * * * * * * * * * * * * * * * * * * * * * * * * * * * * * * * * * * * * * * * * * * * * * * * * * * * * * * * * * * * * * * * * * * * * * * * * * * * * * * * * * * * * * * * * * * * * * * * * * * * * * * * * * * * * * * * * * * * * * * * * * * * * * * * * * * * * * * * * * * * * * * * * * * * * * * * * * * * * * * * * * * * * * * * * * * * * * * * * * * * * * * * * * * * * * * * * * * *
END_USGS_HEADER *
