BEGIN_USGS_DOQ_HEADER *
QUADRANGLE_NAME "BARD" *
QUADRANT NW *
NORTH_LATITUDE 32 52 30.000 *
WEST_LONGITUDE -114 37 30.000 *
SOUTH_LATITUDE 32 48 45.000 *
EAST_LONGITUDE -114 33 45.000 *
PRODUCTION_DATE 1998 02 21 *
RASTER_ORDER LEFT_RIGHT/TOP_BOTTOM *
BAND_ORGANIZATION BIP *
BAND_CONTENT RED *
BAND_CONTENT GREEN *
BAND_CONTENT BLUE *
BITS_PER_PIXEL 8 *
SAMPLES_AND_LINES 6720 7710 *
HORIZONTAL_DATUM NAD83 *
HORIZONTAL_COORDINATE_SYSTEM UTM *
COORDINATE_ZONE 11 *
HORIZONTAL_UNITS METERS *
HORIZONTAL_RESOLUTION 1.000 *
SECONDARY_HORIZONTAL_DATUM NAD27 *
XY_ORIGIN 721800.000 3640380.000 *
SECONDARY_XY_ORIGIN 721878.601 3640186.196 *
NATION US *
STATE CA *
NW_QUAD_CORNER_XY 722201.263 3639930.234 *
NE_QUAD_CORNER_XY 728050.106 3640063.645 *
SE_QUAD_CORNER_XY 728210.126 3633132.461 *
SW_QUAD_CORNER_XY 722357.172 3632999.182 *
SECONDARY_NW_QUAD_XY 722206.120 3639739.580 *
SECONDARY_NE_QUAD_XY 728055.091 3639872.994 *
SECONDARY_SE_QUAD_XY 728215.105 3632942.025 *
SECONDARY_SW_QUAD_XY 722362.024 3632808.743 *
RMSE_XY 1.654 *
IMAGE_SOURCE "CIR FILM" *
SOURCE_IMAGE_ID "NAPP 9573 125" *
SOURCE_IMAGE_DATE 1996 09 29 *
SOURCE_DEM_DATE 1979 01 01 *
AGENCY "WESTERN MAPPING CENTER (WMC)" *
PRODUCER "ANALYTICAL SURVEYS INC." *
PRODUCTION_SYSTEM "ORBIT OR_RECTIFY V.5.2" *
STANDARD_VERSION 1996 12 *
METADATA_DATE 1998 02 21 *
DATA_FILE_SIZE 155453760 *
BYTE_COUNT 20160 * * * * * * * * * * * * * * * * * * * * * * * * * * * * * * * * * * * * * * * * * * * * * * * * * * * * * * * * * * * * * * * * * * * * * * * * * * * * * * * * * * * * * * * * * * * * * * * * * * * * * * * * * * * * * * * * * * * * * * * * * * * * * * * * * * * * * * * * * * * * * * * * * * * * * * * * * * * * * * * * * * * * * * * * * * * * * * * * * * * * * * * * * * * * * * * * * * * * * * * * * * * * * * *
END_USGS_HEADER *
