BEGIN_USGS_DOQ_HEADER *
QUADRANGLE_NAME "BARD" *
QUADRANT SE *
NORTH_LATITUDE 32 48 45.000 *
WEST_LONGITUDE -114 33 45.000 *
SOUTH_LATITUDE 32 45 00.000 *
EAST_LONGITUDE -114 30 00.000 *
PRODUCTION_DATE 1998 02 21 *
RASTER_ORDER LEFT_RIGHT/TOP_BOTTOM *
BAND_ORGANIZATION BIP *
BAND_CONTENT RED *
BAND_CONTENT GREEN *
BAND_CONTENT BLUE *
BITS_PER_PIXEL 8 *
SAMPLES_AND_LINES 6720 7710 *
HORIZONTAL_DATUM NAD83 *
HORIZONTAL_COORDINATE_SYSTEM UTM *
COORDINATE_ZONE 11 *
HORIZONTAL_UNITS METERS *
HORIZONTAL_RESOLUTION 1.000 *
SECONDARY_HORIZONTAL_DATUM NAD27 *
XY_ORIGIN 727830.000 3633600.000 *
SECONDARY_XY_ORIGIN 727908.543 3633406.309 *
NATION US *
STATE CA *
STATE AZ *
NW_QUAD_CORNER_XY 728210.126 3633132.461 *
NE_QUAD_CORNER_XY 734063.192 3633269.210 *
SE_QUAD_CORNER_XY 734227.045 3626337.947 *
SW_QUAD_CORNER_XY 728369.874 3626201.334 *
SECONDARY_NW_QUAD_XY 728215.105 3632942.025 *
SECONDARY_NE_QUAD_XY 734068.300 3633078.776 *
SECONDARY_SE_QUAD_XY 734232.147 3626147.730 *
SECONDARY_SW_QUAD_XY 728374.849 3626011.114 *
RMSE_XY 0.967 *
IMAGE_SOURCE "CIR FILM" *
SOURCE_IMAGE_ID "NAPP 9561 111" *
SOURCE_IMAGE_DATE 1996 06 09 *
SOURCE_DEM_DATE 1979 01 01 *
AGENCY "WESTERN MAPPING CENTER (WMC)" *
PRODUCER "ANALYTICAL SURVEYS INC." *
PRODUCTION_SYSTEM "ORBIT OR_RECTIFY V.5.2" *
STANDARD_VERSION 1996 12 *
METADATA_DATE 1998 02 21 *
DATA_FILE_SIZE 155453760 *
BYTE_COUNT 20160 * * * * * * * * * * * * * * * * * * * * * * * * * * * * * * * * * * * * * * * * * * * * * * * * * * * * * * * * * * * * * * * * * * * * * * * * * * * * * * * * * * * * * * * * * * * * * * * * * * * * * * * * * * * * * * * * * * * * * * * * * * * * * * * * * * * * * * * * * * * * * * * * * * * * * * * * * * * * * * * * * * * * * * * * * * * * * * * * * * * * * * * * * * * * * * * * * * * * * * * * * * * * * *
END_USGS_HEADER *
