BEGIN_USGS_DOQ_HEADER *
QUADRANGLE_NAME "BARD" *
QUADRANT SW *
NORTH_LATITUDE 32 48 45.000 *
WEST_LONGITUDE -114 37 30.000 *
SOUTH_LATITUDE 32 45 00.000 *
EAST_LONGITUDE -114 33 45.000 *
PRODUCTION_DATE 1998 02 21 *
RASTER_ORDER LEFT_RIGHT/TOP_BOTTOM *
BAND_ORGANIZATION BIP *
BAND_CONTENT RED *
BAND_CONTENT GREEN *
BAND_CONTENT BLUE *
BITS_PER_PIXEL 8 *
SAMPLES_AND_LINES 6690 7710 *
HORIZONTAL_DATUM NAD83 *
HORIZONTAL_COORDINATE_SYSTEM UTM *
COORDINATE_ZONE 11 *
HORIZONTAL_UNITS METERS *
HORIZONTAL_RESOLUTION 1.000 *
SECONDARY_HORIZONTAL_DATUM NAD27 *
XY_ORIGIN 721980.000 3633450.000 *
SECONDARY_XY_ORIGIN 722058.609 3633256.244 *
NATION US *
STATE CA *
NW_QUAD_CORNER_XY 722357.172 3632999.182 *
NE_QUAD_CORNER_XY 728210.126 3633132.461 *
SE_QUAD_CORNER_XY 728369.874 3626201.334 *
SW_QUAD_CORNER_XY 722512.817 3626068.187 *
SECONDARY_NW_QUAD_XY 722362.024 3632808.743 *
SECONDARY_NE_QUAD_XY 728215.105 3632942.025 *
SECONDARY_SE_QUAD_XY 728374.849 3626011.114 *
SECONDARY_SW_QUAD_XY 722517.663 3625877.964 *
RMSE_XY 1.149 *
IMAGE_SOURCE "CIR FILM" *
SOURCE_IMAGE_ID "NAPP 9573 127" *
SOURCE_IMAGE_DATE 1996 09 29 *
SOURCE_DEM_DATE 1979 01 01 *
AGENCY "WESTERN MAPPING CENTER (WMC)" *
PRODUCER "ANALYTICAL SURVEYS INC." *
PRODUCTION_SYSTEM "ORBIT OR_RECTIFY V.5.2" *
STANDARD_VERSION 1996 12 *
METADATA_DATE 1998 02 21 *
DATA_FILE_SIZE 154759770 *
BYTE_COUNT 20070 * * * * * * * * * * * * * * * * * * * * * * * * * * * * * * * * * * * * * * * * * * * * * * * * * * * * * * * * * * * * * * * * * * * * * * * * * * * * * * * * * * * * * * * * * * * * * * * * * * * * * * * * * * * * * * * * * * * * * * * * * * * * * * * * * * * * * * * * * * * * * * * * * * * * * * * * * * * * * * * * * * * * * * * * * * * * * * * * * * * * * * * * * * * * * * * * * * * * * * * * * * * * * *
END_USGS_HEADER *
