BEGIN_USGS_DOQ_HEADER *
QUADRANGLE_NAME "ARAZ" *
QUADRANT NE *
NORTH_LATITUDE 32 52 30.000 *
WEST_LONGITUDE -114 41 15.000 *
SOUTH_LATITUDE 32 48 45.000 *
EAST_LONGITUDE -114 37 30.000 *
PRODUCTION_DATE 1998 02 04 *
RASTER_ORDER LEFT_RIGHT/TOP_BOTTOM *
BAND_ORGANIZATION BIP *
BAND_CONTENT RED *
BAND_CONTENT GREEN *
BAND_CONTENT BLUE *
BITS_PER_PIXEL 8 *
SAMPLES_AND_LINES 6720 7710 *
HORIZONTAL_DATUM NAD83 *
HORIZONTAL_COORDINATE_SYSTEM UTM *
COORDINATE_ZONE 11 *
HORIZONTAL_UNITS METERS *
HORIZONTAL_RESOLUTION 1.000 *
SECONDARY_HORIZONTAL_DATUM NAD27 *
XY_ORIGIN 715950.000 3640260.000 *
SECONDARY_XY_ORIGIN 716028.682 3640066.133 *
NATION US *
STATE CA *
NW_QUAD_CORNER_XY 716352.530 3639800.294 *
NE_QUAD_CORNER_XY 722201.263 3639930.234 *
SE_QUAD_CORNER_XY 722357.172 3632999.182 *
SW_QUAD_CORNER_XY 716504.329 3632869.370 *
SECONDARY_NW_QUAD_XY 716357.259 3639609.637 *
SECONDARY_NE_QUAD_XY 722206.120 3639739.580 *
SECONDARY_SE_QUAD_XY 722362.024 3632808.743 *
SECONDARY_SW_QUAD_XY 716509.053 3632678.928 *
RMSE_XY 3.424 *
IMAGE_SOURCE "CIR FILM" *
SOURCE_IMAGE_ID "NAPP 9566 164" *
SOURCE_IMAGE_DATE 1996 06 16 *
SOURCE_DEM_DATE 1973 01 01 *
AGENCY "WESTERN MAPPING CENTER (WMC)" *
PRODUCER "ANALYTICAL SURVEYS INC." *
PRODUCTION_SYSTEM "ORBIT OR_RECTIFY V.5.2" *
STANDARD_VERSION 1996 12 *
METADATA_DATE 1998 02 04 *
DATA_FILE_SIZE 155453760 *
BYTE_COUNT 20160 * * * * * * * * * * * * * * * * * * * * * * * * * * * * * * * * * * * * * * * * * * * * * * * * * * * * * * * * * * * * * * * * * * * * * * * * * * * * * * * * * * * * * * * * * * * * * * * * * * * * * * * * * * * * * * * * * * * * * * * * * * * * * * * * * * * * * * * * * * * * * * * * * * * * * * * * * * * * * * * * * * * * * * * * * * * * * * * * * * * * * * * * * * * * * * * * * * * * * * * * * * * * * * *
END_USGS_HEADER *
