BEGIN_USGS_DOQ_HEADER *
QUADRANGLE_NAME "ARAZ" *
QUADRANT SE *
NORTH_LATITUDE 32 48 45.000 *
WEST_LONGITUDE -114 41 15.000 *
SOUTH_LATITUDE 32 45 00.000 *
EAST_LONGITUDE -114 37 30.000 *
PRODUCTION_DATE 1998 02 04 *
RASTER_ORDER LEFT_RIGHT/TOP_BOTTOM *
BAND_ORGANIZATION BIP *
BAND_CONTENT RED *
BAND_CONTENT GREEN *
BAND_CONTENT BLUE *
BITS_PER_PIXEL 8 *
SAMPLES_AND_LINES 6690 7710 *
HORIZONTAL_DATUM NAD83 *
HORIZONTAL_COORDINATE_SYSTEM UTM *
COORDINATE_ZONE 11 *
HORIZONTAL_UNITS METERS *
HORIZONTAL_RESOLUTION 1.000 *
SECONDARY_HORIZONTAL_DATUM NAD27 *
XY_ORIGIN 716130.000 3633330.000 *
SECONDARY_XY_ORIGIN 716208.676 3633136.178 *
NATION US *
STATE CA *
NW_QUAD_CORNER_XY 716504.329 3632869.370 *
NE_QUAD_CORNER_XY 722357.172 3632999.182 *
SE_QUAD_CORNER_XY 722512.817 3626068.187 *
SW_QUAD_CORNER_XY 716655.870 3625938.504 *
SECONDARY_NW_QUAD_XY 716509.053 3632678.928 *
SECONDARY_NE_QUAD_XY 722362.024 3632808.743 *
SECONDARY_SE_QUAD_XY 722517.663 3625877.964 *
SECONDARY_SW_QUAD_XY 716660.589 3625748.278 *
RMSE_XY 1.435 *
IMAGE_SOURCE "CIR FILM" *
SOURCE_IMAGE_ID "NAPP 9566 162" *
SOURCE_IMAGE_DATE 1996 06 16 *
SOURCE_DEM_DATE 1973 01 01 *
AGENCY "WESTERN MAPPING CENTER (WMC)" *
PRODUCER "ANALYTICAL SURVEYS INC." *
PRODUCTION_SYSTEM "ORBIT OR_RECTIFY V.5.2" *
STANDARD_VERSION 1996 12 *
METADATA_DATE 1998 02 04 *
DATA_FILE_SIZE 154759770 *
BYTE_COUNT 20070 * * * * * * * * * * * * * * * * * * * * * * * * * * * * * * * * * * * * * * * * * * * * * * * * * * * * * * * * * * * * * * * * * * * * * * * * * * * * * * * * * * * * * * * * * * * * * * * * * * * * * * * * * * * * * * * * * * * * * * * * * * * * * * * * * * * * * * * * * * * * * * * * * * * * * * * * * * * * * * * * * * * * * * * * * * * * * * * * * * * * * * * * * * * * * * * * * * * * * * * * * * * * * *
END_USGS_HEADER *
