BEGIN_USGS_DOQ_HEADER *
QUADRANGLE_NAME "OGILBY" *
QUADRANT NW *
NORTH_LATITUDE 32 52 30.000 *
WEST_LONGITUDE -114 52 30.000 *
SOUTH_LATITUDE 32 48 45.000 *
EAST_LONGITUDE -114 48 45.000 *
PRODUCTION_DATE 1998 01 30 *
RASTER_ORDER LEFT_RIGHT/TOP_BOTTOM *
BAND_ORGANIZATION BIP *
BAND_CONTENT RED *
BAND_CONTENT GREEN *
BAND_CONTENT BLUE *
BITS_PER_PIXEL 8 *
SAMPLES_AND_LINES 6690 7680 *
HORIZONTAL_DATUM NAD83 *
HORIZONTAL_COORDINATE_SYSTEM UTM *
COORDINATE_ZONE 11 *
HORIZONTAL_UNITS METERS *
HORIZONTAL_RESOLUTION 1.000 *
SECONDARY_HORIZONTAL_DATUM NAD27 *
XY_ORIGIN 698430.000 3639870.000 *
SECONDARY_XY_ORIGIN 698509.030 3639675.933 *
NATION US *
STATE CA *
NW_QUAD_CORNER_XY 698806.958 3639431.300 *
NE_QUAD_CORNER_XY 704655.380 3639550.828 *
SE_QUAD_CORNER_XY 704798.960 3632620.150 *
SW_QUAD_CORNER_XY 698946.429 3632500.740 *
SECONDARY_NW_QUAD_XY 698811.302 3639240.635 *
SECONDARY_NE_QUAD_XY 704659.853 3639360.165 *
SECONDARY_SE_QUAD_XY 704803.428 3632429.703 *
SECONDARY_SW_QUAD_XY 698950.769 3632310.290 *
RMSE_XY 2.097 *
IMAGE_SOURCE "CIR FILM" *
SOURCE_IMAGE_ID "NAPP 9562 163" *
SOURCE_IMAGE_DATE 1996 06 15 *
SOURCE_DEM_DATE 1997 01 01 *
AGENCY "WESTERN MAPPING CENTER (WMC)" *
PRODUCER "ANALYTICAL SURVEYS INC." *
PRODUCTION_SYSTEM "ORBIT OR_RECTIFY V.5.2" *
STANDARD_VERSION 1996 12 *
METADATA_DATE 1998 01 30 *
DATA_FILE_SIZE 154157670 *
BYTE_COUNT 20070 * * * * * * * * * * * * * * * * * * * * * * * * * * * * * * * * * * * * * * * * * * * * * * * * * * * * * * * * * * * * * * * * * * * * * * * * * * * * * * * * * * * * * * * * * * * * * * * * * * * * * * * * * * * * * * * * * * * * * * * * * * * * * * * * * * * * * * * * * * * * * * * * * * * * * * * * * * * * * * * * * * * * * * * * * * * * * * * * * * * * * * * * * * * * * * * * * * * * * * * * * * * * * *
END_USGS_HEADER *
