BEGIN_USGS_DOQ_HEADER *
QUADRANGLE_NAME "OGILBY" *
QUADRANT SW *
NORTH_LATITUDE 32 48 45.000 *
WEST_LONGITUDE -114 52 30.000 *
SOUTH_LATITUDE 32 45 00.000 *
EAST_LONGITUDE -114 48 45.000 *
PRODUCTION_DATE 1998 01 30 *
RASTER_ORDER LEFT_RIGHT/TOP_BOTTOM *
BAND_ORGANIZATION BIP *
BAND_CONTENT RED *
BAND_CONTENT GREEN *
BAND_CONTENT BLUE *
BITS_PER_PIXEL 8 *
SAMPLES_AND_LINES 6720 7680 *
HORIZONTAL_DATUM NAD83 *
HORIZONTAL_COORDINATE_SYSTEM UTM *
COORDINATE_ZONE 11 *
HORIZONTAL_UNITS METERS *
HORIZONTAL_RESOLUTION 1.000 *
SECONDARY_HORIZONTAL_DATUM NAD27 *
XY_ORIGIN 698550.000 3632940.000 *
SECONDARY_XY_ORIGIN 698629.051 3632745.984 *
NATION US *
STATE CA *
NW_QUAD_CORNER_XY 698946.429 3632500.740 *
NE_QUAD_CORNER_XY 704798.960 3632620.150 *
SE_QUAD_CORNER_XY 704942.296 3625689.532 *
SW_QUAD_CORNER_XY 699085.663 3625570.240 *
SECONDARY_NW_QUAD_XY 698950.769 3632310.290 *
SECONDARY_NE_QUAD_XY 704803.428 3632429.703 *
SECONDARY_SE_QUAD_XY 704946.760 3625499.300 *
SECONDARY_SW_QUAD_XY 699090.000 3625380.006 *
RMSE_XY 2.311 *
IMAGE_SOURCE "CIR FILM" *
SOURCE_IMAGE_ID "NAPP 9562 165" *
SOURCE_IMAGE_DATE 1996 06 15 *
SOURCE_DEM_DATE 1997 01 01 *
AGENCY "WESTERN MAPPING CENTER (WMC)" *
PRODUCER "ANALYTICAL SURVEYS INC." *
PRODUCTION_SYSTEM "ORBIT OR_RECTIFY V.5.2" *
STANDARD_VERSION 1996 12 *
METADATA_DATE 1998 01 30 *
DATA_FILE_SIZE 154848960 *
BYTE_COUNT 20160 * * * * * * * * * * * * * * * * * * * * * * * * * * * * * * * * * * * * * * * * * * * * * * * * * * * * * * * * * * * * * * * * * * * * * * * * * * * * * * * * * * * * * * * * * * * * * * * * * * * * * * * * * * * * * * * * * * * * * * * * * * * * * * * * * * * * * * * * * * * * * * * * * * * * * * * * * * * * * * * * * * * * * * * * * * * * * * * * * * * * * * * * * * * * * * * * * * * * * * * * * * * * * * *
END_USGS_HEADER *
