BEGIN_USGS_DOQ_HEADER *
QUADRANGLE_NAME "CACTUS" *
QUADRANT SW *
NORTH_LATITUDE 32 48 45.000 *
WEST_LONGITUDE -115 00 00.000 *
SOUTH_LATITUDE 32 45 00.000 *
EAST_LONGITUDE -114 56 15.000 *
PRODUCTION_DATE 1998 01 29 *
RASTER_ORDER LEFT_RIGHT/TOP_BOTTOM *
BAND_ORGANIZATION BIP *
BAND_CONTENT RED *
BAND_CONTENT GREEN *
BAND_CONTENT BLUE *
BITS_PER_PIXEL 8 *
SAMPLES_AND_LINES 6690 7680 *
HORIZONTAL_DATUM NAD83 *
HORIZONTAL_COORDINATE_SYSTEM UTM *
COORDINATE_ZONE 11 *
HORIZONTAL_UNITS METERS *
HORIZONTAL_RESOLUTION 1.000 *
SECONDARY_HORIZONTAL_DATUM NAD27 *
XY_ORIGIN 686850.000 3632700.000 *
SECONDARY_XY_ORIGIN 686929.344 3632505.853 *
NATION US *
STATE CA *
NW_QUAD_CORNER_XY 687241.659 3632272.319 *
NE_QUAD_CORNER_XY 693093.996 3632384.797 *
SE_QUAD_CORNER_XY 693229.130 3625454.412 *
SW_QUAD_CORNER_XY 687372.692 3625342.046 *
SECONDARY_NW_QUAD_XY 687245.744 3632081.864 *
SECONDARY_NE_QUAD_XY 693098.209 3632194.344 *
SECONDARY_SE_QUAD_XY 693233.338 3625264.175 *
SECONDARY_SW_QUAD_XY 687376.773 3625151.807 *
RMSE_XY 2.431 *
IMAGE_SOURCE "CIR FILM" *
SOURCE_IMAGE_ID "NAPP 9563 47" *
SOURCE_IMAGE_DATE 1996 06 15 *
SOURCE_DEM_DATE 1963 01 01 *
AGENCY "WESTERN MAPPING CENTER (WMC)" *
PRODUCER "ANALYTICAL SURVEYS INC." *
PRODUCTION_SYSTEM "ORBIT OR_RECTIFY V.5.2" *
STANDARD_VERSION 1996 12 *
METADATA_DATE 1998 01 29 *
DATA_FILE_SIZE 154157670 *
BYTE_COUNT 20070 * * * * * * * * * * * * * * * * * * * * * * * * * * * * * * * * * * * * * * * * * * * * * * * * * * * * * * * * * * * * * * * * * * * * * * * * * * * * * * * * * * * * * * * * * * * * * * * * * * * * * * * * * * * * * * * * * * * * * * * * * * * * * * * * * * * * * * * * * * * * * * * * * * * * * * * * * * * * * * * * * * * * * * * * * * * * * * * * * * * * * * * * * * * * * * * * * * * * * * * * * * * * * *
END_USGS_HEADER *
