BEGIN_USGS_DOQ_HEADER *
QUADRANGLE_NAME "RED BLUFF MOUNTAIN NW" *
QUADRANT NE *
NORTH_LATITUDE 33 00 00.000 *
WEST_LONGITUDE -114 11 15.000 *
SOUTH_LATITUDE 32 56 15.000 *
EAST_LONGITUDE -114 07 30.000 *
PRODUCTION_DATE 1998 02 12 *
RASTER_ORDER LEFT_RIGHT/TOP_BOTTOM *
BAND_ORGANIZATION BIP *
BAND_CONTENT RED *
BAND_CONTENT GREEN *
BAND_CONTENT BLUE *
BITS_PER_PIXEL 8 *
SAMPLES_AND_LINES 6720 7740 *
HORIZONTAL_DATUM NAD83 *
HORIZONTAL_COORDINATE_SYSTEM UTM *
COORDINATE_ZONE 11 *
HORIZONTAL_UNITS METERS *
HORIZONTAL_RESOLUTION 1.000 *
SECONDARY_HORIZONTAL_DATUM NAD27 *
XY_ORIGIN 762390.000 3655290.000 *
SECONDARY_XY_ORIGIN 762468.166 3655096.363 *
NATION US *
STATE AZ *
NW_QUAD_CORNER_XY 762775.283 3654801.295 *
NE_QUAD_CORNER_XY 768616.720 3654959.332 *
SE_QUAD_CORNER_XY 768806.175 3648027.027 *
SW_QUAD_CORNER_XY 762960.609 3647869.144 *
SECONDARY_NW_QUAD_XY 762781.047 3654610.235 *
SECONDARY_NE_QUAD_XY 768622.613 3654768.275 *
SECONDARY_SE_QUAD_XY 768812.061 3647836.184 *
SECONDARY_SW_QUAD_XY 762966.367 3647678.298 *
RMSE_XY 1.589 *
IMAGE_SOURCE "CIR FILM" *
SOURCE_IMAGE_ID "NAPP 9574 151" *
SOURCE_IMAGE_DATE 1996 09 28 *
SOURCE_DEM_DATE 1997 01 01 *
AGENCY "WESTERN MAPPING CENTER (WMC)" *
PRODUCER "ANALYTICAL SURVEYS INC." *
PRODUCTION_SYSTEM "ORBIT OR_RECTIFY V.5.2" *
STANDARD_VERSION 1996 12 *
METADATA_DATE 1998 02 15 *
DATA_FILE_SIZE 156058560 *
BYTE_COUNT 20160 * * * * * * * * * * * * * * * * * * * * * * * * * * * * * * * * * * * * * * * * * * * * * * * * * * * * * * * * * * * * * * * * * * * * * * * * * * * * * * * * * * * * * * * * * * * * * * * * * * * * * * * * * * * * * * * * * * * * * * * * * * * * * * * * * * * * * * * * * * * * * * * * * * * * * * * * * * * * * * * * * * * * * * * * * * * * * * * * * * * * * * * * * * * * * * * * * * * * * * * * * * * * * * *
END_USGS_HEADER *
