BEGIN_USGS_DOQ_HEADER *
QUADRANGLE_NAME "MIDDLE MOUNTAINS SOUTH" *
QUADRANT SW *
NORTH_LATITUDE 32 56 15.000 *
WEST_LONGITUDE -114 22 30.000 *
SOUTH_LATITUDE 32 52 30.000 *
EAST_LONGITUDE -114 18 45.000 *
PRODUCTION_DATE 1998 02 12 *
RASTER_ORDER LEFT_RIGHT/TOP_BOTTOM *
BAND_ORGANIZATION BIP *
BAND_CONTENT RED *
BAND_CONTENT GREEN *
BAND_CONTENT BLUE *
BITS_PER_PIXEL 8 *
SAMPLES_AND_LINES 6720 7710 *
HORIZONTAL_DATUM NAD83 *
HORIZONTAL_COORDINATE_SYSTEM UTM *
COORDINATE_ZONE 11 *
HORIZONTAL_UNITS METERS *
HORIZONTAL_RESOLUTION 1.000 *
SECONDARY_HORIZONTAL_DATUM NAD27 *
XY_ORIGIN 745050.000 3647880.000 *
SECONDARY_XY_ORIGIN 745128.325 3647686.326 *
NATION US *
STATE AZ *
NW_QUAD_CORNER_XY 745424.671 3647416.368 *
NE_QUAD_CORNER_XY 751269.859 3647563.815 *
SE_QUAD_CORNER_XY 751446.628 3640632.017 *
SW_QUAD_CORNER_XY 745597.319 3640484.714 *
SECONDARY_NW_QUAD_XY 745430.045 3647225.512 *
SECONDARY_NE_QUAD_XY 751275.361 3647372.962 *
SECONDARY_SE_QUAD_XY 751452.125 3640441.378 *
SECONDARY_SW_QUAD_XY 745602.688 3640294.072 *
RMSE_XY 1.306 *
IMAGE_SOURCE "CIR FILM" *
SOURCE_IMAGE_ID "NAPP 9560 199" *
SOURCE_IMAGE_DATE 1996 06 09 *
SOURCE_DEM_DATE 1997 01 01 *
AGENCY "WESTERN MAPPING CENTER (WMC)" *
PRODUCER "ANALYTICAL SURVEYS INC." *
PRODUCTION_SYSTEM "ORBIT OR_RECTIFY V.5.2" *
STANDARD_VERSION 1996 12 *
METADATA_DATE 1998 02 15 *
DATA_FILE_SIZE 155453760 *
BYTE_COUNT 20160 * * * * * * * * * * * * * * * * * * * * * * * * * * * * * * * * * * * * * * * * * * * * * * * * * * * * * * * * * * * * * * * * * * * * * * * * * * * * * * * * * * * * * * * * * * * * * * * * * * * * * * * * * * * * * * * * * * * * * * * * * * * * * * * * * * * * * * * * * * * * * * * * * * * * * * * * * * * * * * * * * * * * * * * * * * * * * * * * * * * * * * * * * * * * * * * * * * * * * * * * * * * * * * *
END_USGS_HEADER *
