BEGIN_USGS_DOQ_HEADER *
QUADRANGLE_NAME "IMPERIAL RESERVOIR" *
QUADRANT NW *
NORTH_LATITUDE 33 00 00.000 *
WEST_LONGITUDE -114 30 00.000 *
SOUTH_LATITUDE 32 56 15.000 *
EAST_LONGITUDE -114 26 15.000 *
PRODUCTION_DATE 1998 02 12 *
RASTER_ORDER LEFT_RIGHT/TOP_BOTTOM *
BAND_ORGANIZATION BIP *
BAND_CONTENT RED *
BAND_CONTENT GREEN *
BAND_CONTENT BLUE *
BITS_PER_PIXEL 8 *
SAMPLES_AND_LINES 6720 7680 *
HORIZONTAL_DATUM NAD83 *
HORIZONTAL_COORDINATE_SYSTEM UTM *
COORDINATE_ZONE 11 *
HORIZONTAL_UNITS METERS *
HORIZONTAL_RESOLUTION 1.000 *
SECONDARY_HORIZONTAL_DATUM NAD27 *
XY_ORIGIN 733170.000 3654510.000 *
SECONDARY_XY_ORIGIN 733248.363 3654316.221 *
NATION US *
STATE AZ *
STATE CA *
NW_QUAD_CORNER_XY 733569.963 3654063.335 *
NE_QUAD_CORNER_XY 739410.788 3654203.966 *
SE_QUAD_CORNER_XY 739579.602 3647272.397 *
SW_QUAD_CORNER_XY 733734.651 3647131.904 *
SECONDARY_NW_QUAD_XY 733575.086 3653872.259 *
SECONDARY_NE_QUAD_XY 739416.039 3654012.893 *
SECONDARY_SE_QUAD_XY 739584.848 3647081.538 *
SECONDARY_SW_QUAD_XY 733739.769 3646941.041 *
RMSE_XY 2.554 *
IMAGE_SOURCE "CIR FILM" *
SOURCE_IMAGE_ID "NAPP 9561 76" *
SOURCE_IMAGE_DATE 1996 06 09 *
SOURCE_DEM_DATE 1997 01 01 *
AGENCY "WESTERN MAPPING CENTER (WMC)" *
PRODUCER "ANALYTICAL SURVEYS INC." *
PRODUCTION_SYSTEM "ORBIT OR_RECTIFY V.5.2" *
STANDARD_VERSION 1996 12 *
METADATA_DATE 1998 02 15 *
DATA_FILE_SIZE 154848960 *
BYTE_COUNT 20160 * * * * * * * * * * * * * * * * * * * * * * * * * * * * * * * * * * * * * * * * * * * * * * * * * * * * * * * * * * * * * * * * * * * * * * * * * * * * * * * * * * * * * * * * * * * * * * * * * * * * * * * * * * * * * * * * * * * * * * * * * * * * * * * * * * * * * * * * * * * * * * * * * * * * * * * * * * * * * * * * * * * * * * * * * * * * * * * * * * * * * * * * * * * * * * * * * * * * * * * * * * * * * *
END_USGS_HEADER *
