BEGIN_USGS_DOQ_HEADER *
QUADRANGLE_NAME "IMPERIAL RESERVOIR" *
QUADRANT SE *
NORTH_LATITUDE 32 56 15.000 *
WEST_LONGITUDE -114 26 15.000 *
SOUTH_LATITUDE 32 52 30.000 *
EAST_LONGITUDE -114 22 30.000 *
PRODUCTION_DATE 1998 02 12 *
RASTER_ORDER LEFT_RIGHT/TOP_BOTTOM *
BAND_ORGANIZATION BIP *
BAND_CONTENT RED *
BAND_CONTENT GREEN *
BAND_CONTENT BLUE *
BITS_PER_PIXEL 8 *
SAMPLES_AND_LINES 6720 7710 *
HORIZONTAL_DATUM NAD83 *
HORIZONTAL_COORDINATE_SYSTEM UTM *
COORDINATE_ZONE 11 *
HORIZONTAL_UNITS METERS *
HORIZONTAL_RESOLUTION 1.000 *
SECONDARY_HORIZONTAL_DATUM NAD27 *
XY_ORIGIN 739200.000 3647730.000 *
SECONDARY_XY_ORIGIN 739278.364 3647536.299 *
NATION US *
STATE AZ *
NW_QUAD_CORNER_XY 739579.602 3647272.397 *
NE_QUAD_CORNER_XY 745424.671 3647416.368 *
SE_QUAD_CORNER_XY 745597.319 3640484.714 *
SW_QUAD_CORNER_XY 739748.131 3640340.885 *
SECONDARY_NW_QUAD_XY 739584.848 3647081.538 *
SECONDARY_NE_QUAD_XY 745430.045 3647225.512 *
SECONDARY_SE_QUAD_XY 745602.688 3640294.072 *
SECONDARY_SW_QUAD_XY 739753.372 3640150.239 *
RMSE_XY 1.077 *
IMAGE_SOURCE "CIR FILM" *
SOURCE_IMAGE_ID "NAPP 9561 29" *
SOURCE_IMAGE_DATE 1996 06 09 *
SOURCE_DEM_DATE 1997 01 01 *
AGENCY "WESTERN MAPPING CENTER (WMC)" *
PRODUCER "ANALYTICAL SURVEYS INC." *
PRODUCTION_SYSTEM "ORBIT OR_RECTIFY V.5.2" *
STANDARD_VERSION 1996 12 *
METADATA_DATE 1998 02 15 *
DATA_FILE_SIZE 155453760 *
BYTE_COUNT 20160 * * * * * * * * * * * * * * * * * * * * * * * * * * * * * * * * * * * * * * * * * * * * * * * * * * * * * * * * * * * * * * * * * * * * * * * * * * * * * * * * * * * * * * * * * * * * * * * * * * * * * * * * * * * * * * * * * * * * * * * * * * * * * * * * * * * * * * * * * * * * * * * * * * * * * * * * * * * * * * * * * * * * * * * * * * * * * * * * * * * * * * * * * * * * * * * * * * * * * * * * * * * * * * *
END_USGS_HEADER *
