BEGIN_USGS_DOQ_HEADER *
QUADRANGLE_NAME "IMPERIAL RESERVOIR" *
QUADRANT SW *
NORTH_LATITUDE 32 56 15.000 *
WEST_LONGITUDE -114 30 00.000 *
SOUTH_LATITUDE 32 52 30.000 *
EAST_LONGITUDE -114 26 15.000 *
PRODUCTION_DATE 1998 02 12 *
RASTER_ORDER LEFT_RIGHT/TOP_BOTTOM *
BAND_ORGANIZATION BIP *
BAND_CONTENT RED *
BAND_CONTENT GREEN *
BAND_CONTENT BLUE *
BITS_PER_PIXEL 8 *
SAMPLES_AND_LINES 6720 7680 *
HORIZONTAL_DATUM NAD83 *
HORIZONTAL_COORDINATE_SYSTEM UTM *
COORDINATE_ZONE 11 *
HORIZONTAL_UNITS METERS *
HORIZONTAL_RESOLUTION 1.000 *
SECONDARY_HORIZONTAL_DATUM NAD27 *
XY_ORIGIN 733350.000 3647580.000 *
SECONDARY_XY_ORIGIN 733428.403 3647386.272 *
NATION US *
STATE AZ *
STATE CA *
NW_QUAD_CORNER_XY 733734.651 3647131.904 *
NE_QUAD_CORNER_XY 739579.602 3647272.397 *
SE_QUAD_CORNER_XY 739748.131 3640340.885 *
SW_QUAD_CORNER_XY 733899.061 3640200.529 *
SECONDARY_NW_QUAD_XY 733739.769 3646941.041 *
SECONDARY_NE_QUAD_XY 739584.848 3647081.538 *
SECONDARY_SE_QUAD_XY 739753.372 3640150.239 *
SECONDARY_SW_QUAD_XY 733904.174 3640009.880 *
RMSE_XY 3.269 *
IMAGE_SOURCE "CIR FILM" *
SOURCE_IMAGE_ID "NAPP 9561 78" *
SOURCE_IMAGE_DATE 1996 06 09 *
SOURCE_DEM_DATE 1997 01 01 *
AGENCY "WESTERN MAPPING CENTER (WMC)" *
PRODUCER "ANALYTICAL SURVEYS INC." *
PRODUCTION_SYSTEM "ORBIT OR_RECTIFY V.5.2" *
STANDARD_VERSION 1996 12 *
METADATA_DATE 1998 02 15 *
DATA_FILE_SIZE 154848960 *
BYTE_COUNT 20160 * * * * * * * * * * * * * * * * * * * * * * * * * * * * * * * * * * * * * * * * * * * * * * * * * * * * * * * * * * * * * * * * * * * * * * * * * * * * * * * * * * * * * * * * * * * * * * * * * * * * * * * * * * * * * * * * * * * * * * * * * * * * * * * * * * * * * * * * * * * * * * * * * * * * * * * * * * * * * * * * * * * * * * * * * * * * * * * * * * * * * * * * * * * * * * * * * * * * * * * * * * * * * *
END_USGS_HEADER *
