BEGIN_USGS_DOQ_HEADER *
QUADRANGLE_NAME "LITTLE PICACHO PEAK" *
QUADRANT NE *
NORTH_LATITUDE 33 00 00.000 *
WEST_LONGITUDE -114 33 45.000 *
SOUTH_LATITUDE 32 56 15.000 *
EAST_LONGITUDE -114 30 00.000 *
PRODUCTION_DATE 1998 02 10 *
RASTER_ORDER LEFT_RIGHT/TOP_BOTTOM *
BAND_ORGANIZATION BIP *
BAND_CONTENT RED *
BAND_CONTENT GREEN *
BAND_CONTENT BLUE *
BITS_PER_PIXEL 8 *
SAMPLES_AND_LINES 6690 7710 *
HORIZONTAL_DATUM NAD83 *
HORIZONTAL_COORDINATE_SYSTEM UTM *
COORDINATE_ZONE 11 *
HORIZONTAL_UNITS METERS *
HORIZONTAL_RESOLUTION 1.000 *
SECONDARY_HORIZONTAL_DATUM NAD27 *
XY_ORIGIN 727350.000 3654390.000 *
SECONDARY_XY_ORIGIN 727428.472 3654196.162 *
NATION US *
STATE CA *
NW_QUAD_CORNER_XY 727729.252 3653926.183 *
NE_QUAD_CORNER_XY 733569.963 3654063.335 *
SE_QUAD_CORNER_XY 733734.651 3647131.904 *
SW_QUAD_CORNER_XY 727889.815 3646994.886 *
SECONDARY_NW_QUAD_XY 727734.246 3653735.104 *
SECONDARY_NE_QUAD_XY 733575.086 3653872.259 *
SECONDARY_SE_QUAD_XY 733739.769 3646941.041 *
SECONDARY_SW_QUAD_XY 727894.804 3646804.020 *
RMSE_XY 2.326 *
IMAGE_SOURCE "CIR FILM" *
SOURCE_IMAGE_ID "NAPP 9561 117" *
SOURCE_IMAGE_DATE 1996 06 09 *
SOURCE_DEM_DATE 1965 01 01 *
AGENCY "WESTERN MAPPING CENTER (WMC)" *
PRODUCER "ANALYTICAL SURVEYS INC." *
PRODUCTION_SYSTEM "ORBIT OR_RECTIFY V.5.2" *
STANDARD_VERSION 1996 12 *
METADATA_DATE 1998 02 11 *
DATA_FILE_SIZE 154759770 *
BYTE_COUNT 20070 * * * * * * * * * * * * * * * * * * * * * * * * * * * * * * * * * * * * * * * * * * * * * * * * * * * * * * * * * * * * * * * * * * * * * * * * * * * * * * * * * * * * * * * * * * * * * * * * * * * * * * * * * * * * * * * * * * * * * * * * * * * * * * * * * * * * * * * * * * * * * * * * * * * * * * * * * * * * * * * * * * * * * * * * * * * * * * * * * * * * * * * * * * * * * * * * * * * * * * * * * * * * * *
END_USGS_HEADER *
