BEGIN_USGS_DOQ_HEADER *
QUADRANGLE_NAME "PICACHO PEAK" *
QUADRANT NW *
NORTH_LATITUDE 33 00 00.000 *
WEST_LONGITUDE -114 45 00.000 *
SOUTH_LATITUDE 32 56 15.000 *
EAST_LONGITUDE -114 41 15.000 *
PRODUCTION_DATE 1998 02 05 *
RASTER_ORDER LEFT_RIGHT/TOP_BOTTOM *
BAND_ORGANIZATION BIP *
BAND_CONTENT RED *
BAND_CONTENT GREEN *
BAND_CONTENT BLUE *
BITS_PER_PIXEL 8 *
SAMPLES_AND_LINES 6690 7680 *
HORIZONTAL_DATUM NAD83 *
HORIZONTAL_COORDINATE_SYSTEM UTM *
COORDINATE_ZONE 11 *
HORIZONTAL_UNITS METERS *
HORIZONTAL_RESOLUTION 1.000 *
SECONDARY_HORIZONTAL_DATUM NAD27 *
XY_ORIGIN 709830.000 3653970.000 *
SECONDARY_XY_ORIGIN 709908.805 3653775.990 *
NATION US *
STATE CA *
NW_QUAD_CORNER_XY 710207.773 3653535.600 *
NE_QUAD_CORNER_XY 716048.160 3653662.317 *
SE_QUAD_CORNER_XY 716200.474 3646731.276 *
SW_QUAD_CORNER_XY 710355.963 3646604.684 *
SECONDARY_NW_QUAD_XY 710212.383 3653344.512 *
SECONDARY_NE_QUAD_XY 716052.898 3653471.232 *
SECONDARY_SE_QUAD_XY 716205.207 3646540.405 *
SECONDARY_SW_QUAD_XY 710360.569 3646413.809 *
RMSE_XY 2.790 *
IMAGE_SOURCE "CIR FILM" *
SOURCE_IMAGE_ID "NAPP 9562 44" *
SOURCE_IMAGE_DATE 1996 06 15 *
SOURCE_IMAGE_ID "NAPP 9562 42" *
SOURCE_IMAGE_DATE 1996 06 15 *
SOURCE_DEM_DATE 1997 01 01 *
AGENCY "WESTERN MAPPING CENTER (WMC)" *
PRODUCER "ANALYTICAL SURVEYS INC." *
PRODUCTION_SYSTEM "ORBIT OR_RECTIFY V.5.2" *
STANDARD_VERSION 1996 12 *
METADATA_DATE 1998 02 05 *
DATA_FILE_SIZE 154157670 *
BYTE_COUNT 20070 * * * * * * * * * * * * * * * * * * * * * * * * * * * * * * * * * * * * * * * * * * * * * * * * * * * * * * * * * * * * * * * * * * * * * * * * * * * * * * * * * * * * * * * * * * * * * * * * * * * * * * * * * * * * * * * * * * * * * * * * * * * * * * * * * * * * * * * * * * * * * * * * * * * * * * * * * * * * * * * * * * * * * * * * * * * * * * * * * * * * * * * * * * * * * * * * * * * * * * * * * * * *
END_USGS_HEADER *
