BEGIN_USGS_DOQ_HEADER *
QUADRANGLE_NAME "PICACHO PEAK" *
QUADRANT SE *
NORTH_LATITUDE 32 56 15.000 *
WEST_LONGITUDE -114 41 15.000 *
SOUTH_LATITUDE 32 52 30.000 *
EAST_LONGITUDE -114 37 30.000 *
PRODUCTION_DATE 1998 02 05 *
RASTER_ORDER LEFT_RIGHT/TOP_BOTTOM *
BAND_ORGANIZATION BIP *
BAND_CONTENT RED *
BAND_CONTENT GREEN *
BAND_CONTENT BLUE *
BITS_PER_PIXEL 8 *
SAMPLES_AND_LINES 6720 7710 *
HORIZONTAL_DATUM NAD83 *
HORIZONTAL_COORDINATE_SYSTEM UTM *
COORDINATE_ZONE 11 *
HORIZONTAL_UNITS METERS *
HORIZONTAL_RESOLUTION 1.000 *
SECONDARY_HORIZONTAL_DATUM NAD27 *
XY_ORIGIN 715800.000 3647190.000 *
SECONDARY_XY_ORIGIN 715878.688 3646996.090 *
NATION US *
STATE CA *
NW_QUAD_CORNER_XY 716200.474 3646731.276 *
NE_QUAD_CORNER_XY 722045.090 3646861.344 *
SE_QUAD_CORNER_XY 722201.263 3639930.234 *
SW_QUAD_CORNER_XY 716352.530 3639800.294 *
SECONDARY_NW_QUAD_XY 716205.207 3646540.405 *
SECONDARY_NE_QUAD_XY 722049.951 3646670.475 *
SECONDARY_SE_QUAD_XY 722206.120 3639739.580 *
SECONDARY_SW_QUAD_XY 716357.259 3639609.637 *
RMSE_XY 3.069 *
IMAGE_SOURCE "CIR FILM" *
SOURCE_IMAGE_ID "NAPP 9574 35" *
SOURCE_IMAGE_DATE 1996 09 28 *
SOURCE_DEM_DATE 1997 01 01 *
AGENCY "WESTERN MAPPING CENTER (WMC)" *
PRODUCER "ANALYTICAL SURVEYS INC." *
PRODUCTION_SYSTEM "ORBIT OR_RECTIFY V.5.2" *
STANDARD_VERSION 1996 12 *
METADATA_DATE 1998 02 05 *
DATA_FILE_SIZE 155453760 *
BYTE_COUNT 20160 * * * * * * * * * * * * * * * * * * * * * * * * * * * * * * * * * * * * * * * * * * * * * * * * * * * * * * * * * * * * * * * * * * * * * * * * * * * * * * * * * * * * * * * * * * * * * * * * * * * * * * * * * * * * * * * * * * * * * * * * * * * * * * * * * * * * * * * * * * * * * * * * * * * * * * * * * * * * * * * * * * * * * * * * * * * * * * * * * * * * * * * * * * * * * * * * * * * * * * * * * * * * * * *
END_USGS_HEADER *
