BEGIN_USGS_DOQ_HEADER *
QUADRANGLE_NAME "HEDGES" *
QUADRANT SW *
NORTH_LATITUDE 32 56 15.000 *
WEST_LONGITUDE -114 52 30.000 *
SOUTH_LATITUDE 32 52 30.000 *
EAST_LONGITUDE -114 48 45.000 *
PRODUCTION_DATE 1998 01 30 *
RASTER_ORDER LEFT_RIGHT/TOP_BOTTOM *
BAND_ORGANIZATION BIP *
BAND_CONTENT RED *
BAND_CONTENT GREEN *
BAND_CONTENT BLUE *
BITS_PER_PIXEL 8 *
SAMPLES_AND_LINES 6690 7680 *
HORIZONTAL_DATUM NAD83 *
HORIZONTAL_COORDINATE_SYSTEM UTM *
COORDINATE_ZONE 11 *
HORIZONTAL_UNITS METERS *
HORIZONTAL_RESOLUTION 1.000 *
SECONDARY_HORIZONTAL_DATUM NAD27 *
XY_ORIGIN 698280.000 3646800.000 *
SECONDARY_XY_ORIGIN 698359.010 3646605.881 *
NATION US *
STATE CA *
NW_QUAD_CORNER_XY 698667.249 3646361.920 *
NE_QUAD_CORNER_XY 704511.556 3646481.565 *
SE_QUAD_CORNER_XY 704655.380 3639550.828 *
SW_QUAD_CORNER_XY 698806.958 3639431.300 *
SECONDARY_NW_QUAD_XY 698671.598 3646171.040 *
SECONDARY_NE_QUAD_XY 704516.033 3646290.688 *
SECONDARY_SE_QUAD_XY 704659.853 3639360.165 *
SECONDARY_SW_QUAD_XY 698811.302 3639240.635 *
RMSE_XY 1.855 *
IMAGE_SOURCE "CIR FILM" *
SOURCE_IMAGE_ID "NAPP 9562 161" *
SOURCE_IMAGE_DATE 1996 06 15 *
SOURCE_DEM_DATE 1997 01 01 *
AGENCY "WESTERN MAPPING CENTER (WMC)" *
PRODUCER "ANALYTICAL SURVEYS INC." *
PRODUCTION_SYSTEM "ORBIT OR_RECTIFY V.5.2" *
STANDARD_VERSION 1996 12 *
METADATA_DATE 1998 01 30 *
DATA_FILE_SIZE 154157670 *
BYTE_COUNT 20070 * * * * * * * * * * * * * * * * * * * * * * * * * * * * * * * * * * * * * * * * * * * * * * * * * * * * * * * * * * * * * * * * * * * * * * * * * * * * * * * * * * * * * * * * * * * * * * * * * * * * * * * * * * * * * * * * * * * * * * * * * * * * * * * * * * * * * * * * * * * * * * * * * * * * * * * * * * * * * * * * * * * * * * * * * * * * * * * * * * * * * * * * * * * * * * * * * * * * * * * * * * * * * *
END_USGS_HEADER *
