BEGIN_USGS_DOQ_HEADER *
QUADRANGLE_NAME "CLYDE" *
QUADRANT NE *
NORTH_LATITUDE 33 00 00.000 *
WEST_LONGITUDE -114 56 15.000 *
SOUTH_LATITUDE 32 56 15.000 *
EAST_LONGITUDE -114 52 30.000 *
PRODUCTION_DATE 1998 01 28 *
RASTER_ORDER LEFT_RIGHT/TOP_BOTTOM *
BAND_ORGANIZATION BIP *
BAND_CONTENT RED *
BAND_CONTENT GREEN *
BAND_CONTENT BLUE *
BITS_PER_PIXEL 8 *
SAMPLES_AND_LINES 6660 7680 *
HORIZONTAL_DATUM NAD83 *
HORIZONTAL_COORDINATE_SYSTEM UTM *
COORDINATE_ZONE 11 *
HORIZONTAL_UNITS METERS *
HORIZONTAL_RESOLUTION 1.000 *
SECONDARY_HORIZONTAL_DATUM NAD27 *
XY_ORIGIN 692310.000 3653610.000 *
SECONDARY_XY_ORIGIN 692389.076 3653415.751 *
NATION US *
STATE CA *
NW_QUAD_CORNER_XY 692687.217 3653176.314 *
NE_QUAD_CORNER_XY 698527.304 3653292.599 *
SE_QUAD_CORNER_XY 698667.249 3646361.920 *
SW_QUAD_CORNER_XY 692823.040 3646245.748 *
SECONDARY_NW_QUAD_XY 692691.442 3652985.218 *
SECONDARY_NE_QUAD_XY 698531.658 3653101.506 *
SECONDARY_SE_QUAD_XY 698671.598 3646171.040 *
SECONDARY_SW_QUAD_XY 692827.261 3646054.866 *
RMSE_XY 0.758 *
IMAGE_SOURCE "CIR FILM" *
SOURCE_IMAGE_ID "NAPP 9562 188" *
SOURCE_IMAGE_DATE 1996 06 15 *
SOURCE_DEM_DATE 1997 01 01 *
AGENCY "WESTERN MAPPING CENTER (WMC)" *
PRODUCER "ANALYTICAL SURVEYS INC." *
PRODUCTION_SYSTEM "ORBIT OR_RECTIFY V.5.2" *
STANDARD_VERSION 1996 12 *
METADATA_DATE 1998 01 28 *
DATA_FILE_SIZE 153466380 *
BYTE_COUNT 19980 * * * * * * * * * * * * * * * * * * * * * * * * * * * * * * * * * * * * * * * * * * * * * * * * * * * * * * * * * * * * * * * * * * * * * * * * * * * * * * * * * * * * * * * * * * * * * * * * * * * * * * * * * * * * * * * * * * * * * * * * * * * * * * * * * * * * * * * * * * * * * * * * * * * * * * * * * * * * * * * * * * * * * * * * * * * * * * * * * * * * * * * * * * * * * * * * * * * * * * * * * * * * *
END_USGS_HEADER *
