BEGIN_USGS_DOQ_HEADER *
QUADRANGLE_NAME "CLYDE" *
QUADRANT NW *
NORTH_LATITUDE 33 00 00.000 *
WEST_LONGITUDE -115 00 00.000 *
SOUTH_LATITUDE 32 56 15.000 *
EAST_LONGITUDE -114 56 15.000 *
PRODUCTION_DATE 1998 01 28 *
RASTER_ORDER LEFT_RIGHT/TOP_BOTTOM *
BAND_ORGANIZATION BIP *
BAND_CONTENT RED *
BAND_CONTENT GREEN *
BAND_CONTENT BLUE *
BITS_PER_PIXEL 8 *
SAMPLES_AND_LINES 6690 7680 *
HORIZONTAL_DATUM NAD83 *
HORIZONTAL_COORDINATE_SYSTEM UTM *
COORDINATE_ZONE 11 *
HORIZONTAL_UNITS METERS *
HORIZONTAL_RESOLUTION 1.000 *
SECONDARY_HORIZONTAL_DATUM NAD27 *
XY_ORIGIN 686460.000 3653490.000 *
SECONDARY_XY_ORIGIN 686539.164 3653295.670 *
NATION US *
STATE CA *
NW_QUAD_CORNER_XY 686847.223 3653063.504 *
NE_QUAD_CORNER_XY 692687.217 3653176.314 *
SE_QUAD_CORNER_XY 692823.040 3646245.748 *
SW_QUAD_CORNER_XY 686978.924 3646133.048 *
SECONDARY_NW_QUAD_XY 686851.320 3652872.406 *
SECONDARY_NE_QUAD_XY 692691.442 3652985.218 *
SECONDARY_SE_QUAD_XY 692827.261 3646054.866 *
SECONDARY_SW_QUAD_XY 686983.017 3645942.164 *
RMSE_XY 0.631 *
IMAGE_SOURCE "CIR FILM" *
SOURCE_IMAGE_ID "NAPP 9563 41" *
SOURCE_IMAGE_DATE 1996 06 15 *
SOURCE_DEM_DATE 1997 01 01 *
AGENCY "WESTERN MAPPING CENTER (WMC)" *
PRODUCER "ANALYTICAL SURVEYS INC." *
PRODUCTION_SYSTEM "ORBIT OR_RECTIFY V.5.2" *
STANDARD_VERSION 1996 12 *
METADATA_DATE 1998 01 28 *
DATA_FILE_SIZE 154157670 *
BYTE_COUNT 20070 * * * * * * * * * * * * * * * * * * * * * * * * * * * * * * * * * * * * * * * * * * * * * * * * * * * * * * * * * * * * * * * * * * * * * * * * * * * * * * * * * * * * * * * * * * * * * * * * * * * * * * * * * * * * * * * * * * * * * * * * * * * * * * * * * * * * * * * * * * * * * * * * * * * * * * * * * * * * * * * * * * * * * * * * * * * * * * * * * * * * * * * * * * * * * * * * * * * * * * * * * * * * * *
END_USGS_HEADER *
