BEGIN_USGS_DOQ_HEADER *
QUADRANGLE_NAME "BONDS CORNER" *
QUADRANT SE *
NORTH_LATITUDE 32 41 15.000 *
WEST_LONGITUDE -115 18 45.000 *
SOUTH_LATITUDE 32 37 30.000 *
EAST_LONGITUDE -115 15 00.000 *
PRODUCTION_DATE 1998 02 19 *
RASTER_ORDER LEFT_RIGHT/TOP_BOTTOM *
BAND_ORGANIZATION BIP *
BAND_CONTENT RED *
BAND_CONTENT GREEN *
BAND_CONTENT BLUE *
BITS_PER_PIXEL 8 *
SAMPLES_AND_LINES 6690 7680 *
HORIZONTAL_DATUM NAD83 *
HORIZONTAL_COORDINATE_SYSTEM UTM *
COORDINATE_ZONE 11 *
HORIZONTAL_UNITS METERS *
HORIZONTAL_RESOLUTION 1.000 *
SECONDARY_HORIZONTAL_DATUM NAD27 *
XY_ORIGIN 657810.000 3618330.000 *
SECONDARY_XY_ORIGIN 657890.178 3618135.402 *
NATION US *
NATION MX *
STATE CA *
NW_QUAD_CORNER_XY 658202.194 3617902.434 *
NE_QUAD_CORNER_XY 664062.285 3617997.399 *
SE_QUAD_CORNER_XY 664176.531 3611067.664 *
SW_QUAD_CORNER_XY 658312.355 3610972.794 *
SECONDARY_NW_QUAD_XY 658205.633 3617712.400 *
SECONDARY_NE_QUAD_XY 664065.852 3617807.368 *
SECONDARY_SE_QUAD_XY 664180.094 3610877.850 *
SECONDARY_SW_QUAD_XY 658315.791 3610782.978 *
RMSE_XY 0.932 *
IMAGE_SOURCE "CIR FILM" *
SOURCE_IMAGE_ID "NAPP 9564 43" *
SOURCE_IMAGE_DATE 1996 06 16 *
SOURCE_DEM_DATE 1953 01 01 *
AGENCY "WESTERN MAPPING CENTER (WMC)" *
PRODUCER "ANALYTICAL SURVEYS INC." *
PRODUCTION_SYSTEM "ORBIT OR_RECTIFY V.5.2" *
STANDARD_VERSION 1996 12 *
METADATA_DATE 1998 04 02 *
DATA_FILE_SIZE 154157670 *
BYTE_COUNT 20070 * * * * * * * * * * * * * * * * * * * * * * * * * * * * * * * * * * * * * * * * * * * * * * * * * * * * * * * * * * * * * * * * * * * * * * * * * * * * * * * * * * * * * * * * * * * * * * * * * * * * * * * * * * * * * * * * * * * * * * * * * * * * * * * * * * * * * * * * * * * * * * * * * * * * * * * * * * * * * * * * * * * * * * * * * * * * * * * * * * * * * * * * * * * * * * * * * * * * * * * * * * * * *
END_USGS_HEADER *
