BEGIN_USGS_DOQ_HEADER *
QUADRANGLE_NAME "HEBER" *
QUADRANT SW *
NORTH_LATITUDE 32 41 15.000 *
WEST_LONGITUDE -115 37 30.000 *
SOUTH_LATITUDE 32 37 30.000 *
EAST_LONGITUDE -115 33 45.000 *
PRODUCTION_DATE 1998 02 17 *
RASTER_ORDER LEFT_RIGHT/TOP_BOTTOM *
BAND_ORGANIZATION BIP *
BAND_CONTENT RED *
BAND_CONTENT GREEN *
BAND_CONTENT BLUE *
BITS_PER_PIXEL 8 *
SAMPLES_AND_LINES 6660 7650 *
HORIZONTAL_DATUM NAD83 *
HORIZONTAL_COORDINATE_SYSTEM UTM *
COORDINATE_ZONE 11 *
HORIZONTAL_UNITS METERS *
HORIZONTAL_RESOLUTION 1.000 *
SECONDARY_HORIZONTAL_DATUM NAD27 *
XY_ORIGIN 628500.000 3617880.000 *
SECONDARY_XY_ORIGIN 628580.942 3617684.304 *
NATION US *
NATION MX *
STATE CA *
NW_QUAD_CORNER_XY 628902.861 3617479.447 *
NE_QUAD_CORNER_XY 634762.587 3617557.134 *
SE_QUAD_CORNER_XY 634856.416 3610627.841 *
SW_QUAD_CORNER_XY 628992.607 3610550.232 *
SECONDARY_NW_QUAD_XY 628905.663 3617289.404 *
SECONDARY_NE_QUAD_XY 634765.516 3617367.092 *
SECONDARY_SE_QUAD_XY 634859.342 3610438.017 *
SECONDARY_SW_QUAD_XY 628995.407 3610360.407 *
RMSE_XY 0.802 *
IMAGE_SOURCE "CIR FILM" *
SOURCE_IMAGE_ID "NAPP 9565 28" *
SOURCE_IMAGE_DATE 1996 06 16 *
SOURCE_DEM_DATE 1957 01 01 *
AGENCY "WESTERN MAPPING CENTER (WMC)" *
PRODUCER "ANALYTICAL SURVEYS INC." *
PRODUCTION_SYSTEM "ORBIT OR_RECTIFY V.5.2" *
STANDARD_VERSION 1996 12 *
METADATA_DATE 1998 04 02 *
DATA_FILE_SIZE 152866980 *
BYTE_COUNT 19980 * * * * * * * * * * * * * * * * * * * * * * * * * * * * * * * * * * * * * * * * * * * * * * * * * * * * * * * * * * * * * * * * * * * * * * * * * * * * * * * * * * * * * * * * * * * * * * * * * * * * * * * * * * * * * * * * * * * * * * * * * * * * * * * * * * * * * * * * * * * * * * * * * * * * * * * * * * * * * * * * * * * * * * * * * * * * * * * * * * * * * * * * * * * * * * * * * * * * * * * * * * * *
END_USGS_HEADER *
