BEGIN_USGS_DOQ_HEADER *
QUADRANGLE_NAME "YUHA BASIN" *
QUADRANT NE *
NORTH_LATITUDE 32 45 00.000 *
WEST_LONGITUDE -115 48 45.000 *
SOUTH_LATITUDE 32 41 15.000 *
EAST_LONGITUDE -115 45 00.000 *
PRODUCTION_DATE 1998 02 21 *
RASTER_ORDER LEFT_RIGHT/TOP_BOTTOM *
BAND_ORGANIZATION BIP *
BAND_CONTENT RED *
BAND_CONTENT GREEN *
BAND_CONTENT BLUE *
BITS_PER_PIXEL 8 *
SAMPLES_AND_LINES 6630 7620 *
HORIZONTAL_DATUM NAD83 *
HORIZONTAL_COORDINATE_SYSTEM UTM *
COORDINATE_ZONE 11 *
HORIZONTAL_UNITS METERS *
HORIZONTAL_RESOLUTION 1.000 *
SECONDARY_HORIZONTAL_DATUM NAD27 *
XY_ORIGIN 610860.000 3624570.000 *
SECONDARY_XY_ORIGIN 610941.139 3624373.981 *
NATION US *
STATE CA *
NW_QUAD_CORNER_XY 611246.423 3624196.184 *
NE_QUAD_CORNER_XY 617101.876 3624263.574 *
SE_QUAD_CORNER_XY 617183.599 3617334.439 *
SW_QUAD_CORNER_XY 611324.057 3617267.116 *
SECONDARY_NW_QUAD_XY 611248.845 3624005.919 *
SECONDARY_NE_QUAD_XY 617104.426 3624073.311 *
SECONDARY_SE_QUAD_XY 617186.146 3617144.393 *
SECONDARY_SW_QUAD_XY 611326.477 3617077.069 *
RMSE_XY 1.111 *
IMAGE_SOURCE "CIR FILM" *
SOURCE_IMAGE_ID "NAPP 9570 220" *
SOURCE_IMAGE_DATE 1996 06 23 *
SOURCE_DEM_DATE 1957 01 01 *
AGENCY "WESTERN MAPPING CENTER (WMC)" *
PRODUCER "ANALYTICAL SURVEYS INC." *
PRODUCTION_SYSTEM "ORBIT OR_RECTIFY V.5.2" *
STANDARD_VERSION 1996 12 *
METADATA_DATE 1998 02 21 *
DATA_FILE_SIZE 151581690 *
BYTE_COUNT 19890 * * * * * * * * * * * * * * * * * * * * * * * * * * * * * * * * * * * * * * * * * * * * * * * * * * * * * * * * * * * * * * * * * * * * * * * * * * * * * * * * * * * * * * * * * * * * * * * * * * * * * * * * * * * * * * * * * * * * * * * * * * * * * * * * * * * * * * * * * * * * * * * * * * * * * * * * * * * * * * * * * * * * * * * * * * * * * * * * * * * * * * * * * * * * * * * * * * * * * * * * * * * *
END_USGS_HEADER *
