BEGIN_USGS_DOQ_HEADER *
QUADRANGLE_NAME "GLAMIS SE" *
QUADRANT SE *
NORTH_LATITUDE 32 48 45.000 *
WEST_LONGITUDE -115 03 45.000 *
SOUTH_LATITUDE 32 45 00.000 *
EAST_LONGITUDE -115 00 00.000 *
PRODUCTION_DATE 1998 02 20 *
RASTER_ORDER LEFT_RIGHT/TOP_BOTTOM *
BAND_ORGANIZATION BIP *
BAND_CONTENT RED *
BAND_CONTENT GREEN *
BAND_CONTENT BLUE *
BITS_PER_PIXEL 8 *
SAMPLES_AND_LINES 6690 7650 *
HORIZONTAL_DATUM NAD83 *
HORIZONTAL_COORDINATE_SYSTEM UTM *
COORDINATE_ZONE 11 *
HORIZONTAL_UNITS METERS *
HORIZONTAL_RESOLUTION 1.000 *
SECONDARY_HORIZONTAL_DATUM NAD27 *
XY_ORIGIN 681000.000 3632580.000 *
SECONDARY_XY_ORIGIN 681079.454 3632385.809 *
NATION US *
STATE CA *
NW_QUAD_CORNER_XY 681389.415 3632163.307 *
NE_QUAD_CORNER_XY 687241.659 3632272.319 *
SE_QUAD_CORNER_XY 687372.692 3625342.046 *
SW_QUAD_CORNER_XY 681516.348 3625233.142 *
SECONDARY_NW_QUAD_XY 681393.372 3631972.849 *
SECONDARY_NE_QUAD_XY 687245.744 3632081.864 *
SECONDARY_SE_QUAD_XY 687376.773 3625151.807 *
SECONDARY_SW_QUAD_XY 681520.301 3625042.900 *
RMSE_XY 0.915 *
IMAGE_SOURCE "CIR FILM" *
SOURCE_IMAGE_ID "NAPP 9563 56" *
SOURCE_IMAGE_DATE 1996 06 15 *
SOURCE_DEM_DATE 1954 01 01 *
AGENCY "WESTERN MAPPING CENTER (WMC)" *
PRODUCER "ANALYTICAL SURVEYS INC." *
PRODUCTION_SYSTEM "ORBIT OR_RECTIFY V.5.2" *
STANDARD_VERSION 1996 12 *
METADATA_DATE 1998 02 20 *
DATA_FILE_SIZE 153555570 *
BYTE_COUNT 20070 * * * * * * * * * * * * * * * * * * * * * * * * * * * * * * * * * * * * * * * * * * * * * * * * * * * * * * * * * * * * * * * * * * * * * * * * * * * * * * * * * * * * * * * * * * * * * * * * * * * * * * * * * * * * * * * * * * * * * * * * * * * * * * * * * * * * * * * * * * * * * * * * * * * * * * * * * * * * * * * * * * * * * * * * * * * * * * * * * * * * * * * * * * * * * * * * * * * * * * * * * * * * * *
END_USGS_HEADER *
