BEGIN_USGS_DOQ_HEADER *
QUADRANGLE_NAME "SEELEY" *
QUADRANT NW *
NORTH_LATITUDE 32 52 30.000 *
WEST_LONGITUDE -115 45 00.000 *
SOUTH_LATITUDE 32 48 45.000 *
EAST_LONGITUDE -115 41 15.000 *
PRODUCTION_DATE 1998 02 16 *
RASTER_ORDER LEFT_RIGHT/TOP_BOTTOM *
BAND_ORGANIZATION BIP *
BAND_CONTENT RED *
BAND_CONTENT GREEN *
BAND_CONTENT BLUE *
BITS_PER_PIXEL 8 *
SAMPLES_AND_LINES 6660 7650 *
HORIZONTAL_DATUM NAD83 *
HORIZONTAL_COORDINATE_SYSTEM UTM *
COORDINATE_ZONE 11 *
HORIZONTAL_UNITS METERS *
HORIZONTAL_RESOLUTION 1.000 *
SECONDARY_HORIZONTAL_DATUM NAD27 *
XY_ORIGIN 616530.000 3638520.000 *
SECONDARY_XY_ORIGIN 616610.735 3638324.156 *
NATION US *
STATE CA *
NW_QUAD_CORNER_XY 616938.012 3638122.041 *
NE_QUAD_CORNER_XY 622785.326 3638193.030 *
SE_QUAD_CORNER_XY 622871.430 3631263.693 *
SW_QUAD_CORNER_XY 617020.014 3631192.775 *
SECONDARY_NW_QUAD_XY 616940.567 3637931.347 *
SECONDARY_NE_QUAD_XY 622788.008 3638002.337 *
SECONDARY_SE_QUAD_XY 622874.110 3631073.216 *
SECONDARY_SW_QUAD_XY 617022.566 3631002.296 *
RMSE_XY 1.132 *
IMAGE_SOURCE "CIR FILM" *
SOURCE_IMAGE_ID "NAPP 9565 92" *
SOURCE_IMAGE_DATE 1996 06 16 *
SOURCE_DEM_DATE 1957 01 01 *
AGENCY "WESTERN MAPPING CENTER (WMC)" *
PRODUCER "ANALYTICAL SURVEYS INC." *
PRODUCTION_SYSTEM "ORBIT OR_RECTIFY V.5.2" *
STANDARD_VERSION 1996 12 *
METADATA_DATE 1998 02 16 *
DATA_FILE_SIZE 152866980 *
BYTE_COUNT 19980 * * * * * * * * * * * * * * * * * * * * * * * * * * * * * * * * * * * * * * * * * * * * * * * * * * * * * * * * * * * * * * * * * * * * * * * * * * * * * * * * * * * * * * * * * * * * * * * * * * * * * * * * * * * * * * * * * * * * * * * * * * * * * * * * * * * * * * * * * * * * * * * * * * * * * * * * * * * * * * * * * * * * * * * * * * * * * * * * * * * * * * * * * * * * * * * * * * * * * * * * * * * * *
END_USGS_HEADER *
