BEGIN_USGS_DOQ_HEADER *
QUADRANGLE_NAME "PAINTED GORGE" *
QUADRANT NE *
NORTH_LATITUDE 32 52 30.000 *
WEST_LONGITUDE -115 56 15.000 *
SOUTH_LATITUDE 32 48 45.000 *
EAST_LONGITUDE -115 52 30.000 *
PRODUCTION_DATE 1998 03 11 *
RASTER_ORDER LEFT_RIGHT/TOP_BOTTOM *
BAND_ORGANIZATION BIP *
BAND_CONTENT RED *
BAND_CONTENT GREEN *
BAND_CONTENT BLUE *
BITS_PER_PIXEL 8 *
SAMPLES_AND_LINES 6630 7620 *
HORIZONTAL_DATUM NAD83 *
HORIZONTAL_COORDINATE_SYSTEM UTM *
COORDINATE_ZONE 11 *
HORIZONTAL_UNITS METERS *
HORIZONTAL_RESOLUTION 1.000 *
SECONDARY_HORIZONTAL_DATUM NAD27 *
XY_ORIGIN 599010.000 3638310.000 *
SECONDARY_XY_ORIGIN 599091.004 3638113.858 *
NATION US *
STATE CA *
NW_QUAD_CORNER_XY 599396.404 3637929.863 *
NE_QUAD_CORNER_XY 605243.554 3637990.458 *
SE_QUAD_CORNER_XY 605317.352 3631061.321 *
SW_QUAD_CORNER_XY 599466.101 3631000.786 *
SECONDARY_NW_QUAD_XY 599398.576 3637739.165 *
SECONDARY_NE_QUAD_XY 605245.853 3637799.761 *
SECONDARY_SE_QUAD_XY 605319.649 3630870.840 *
SECONDARY_SW_QUAD_XY 599468.270 3630810.303 *
RMSE_XY 1.560 *
IMAGE_SOURCE "CIR FILM" *
SOURCE_IMAGE_ID "NAPP 9572 35" *
SOURCE_IMAGE_DATE 1996 09 27 *
SOURCE_DEM_DATE 1957 01 01 *
AGENCY "WESTERN MAPPING CENTER (WMC)" *
PRODUCER "ANALYTICAL SURVEYS INC." *
PRODUCTION_SYSTEM "ORBIT OR_RECTIFY V.5.2" *
STANDARD_VERSION 1996 12 *
METADATA_DATE 1998 03 11 *
DATA_FILE_SIZE 151581690 *
BYTE_COUNT 19890 * * * * * * * * * * * * * * * * * * * * * * * * * * * * * * * * * * * * * * * * * * * * * * * * * * * * * * * * * * * * * * * * * * * * * * * * * * * * * * * * * * * * * * * * * * * * * * * * * * * * * * * * * * * * * * * * * * * * * * * * * * * * * * * * * * * * * * * * * * * * * * * * * * * * * * * * * * * * * * * * * * * * * * * * * * * * * * * * * * * * * * * * * * * * * * * * * * * * * * * * * * * *
END_USGS_HEADER *
