BEGIN_USGS_DOQ_HEADER *
QUADRANGLE_NAME "PAINTED GORGE" *
QUADRANT NW *
NORTH_LATITUDE 32 52 30.000 *
WEST_LONGITUDE -116 00 00.000 *
SOUTH_LATITUDE 32 48 45.000 *
EAST_LONGITUDE -115 56 15.000 *
PRODUCTION_DATE 1998 03 11 *
RASTER_ORDER LEFT_RIGHT/TOP_BOTTOM *
BAND_ORGANIZATION BIP *
BAND_CONTENT RED *
BAND_CONTENT GREEN *
BAND_CONTENT BLUE *
BITS_PER_PIXEL 8 *
SAMPLES_AND_LINES 6630 7620 *
HORIZONTAL_DATUM NAD83 *
HORIZONTAL_COORDINATE_SYSTEM UTM *
COORDINATE_ZONE 11 *
HORIZONTAL_UNITS METERS *
HORIZONTAL_RESOLUTION 1.000 *
SECONDARY_HORIZONTAL_DATUM NAD27 *
XY_ORIGIN 593160.000 3638250.000 *
SECONDARY_XY_ORIGIN 593241.091 3638053.756 *
NATION US *
STATE CA *
NW_QUAD_CORNER_XY 593549.303 3637872.731 *
NE_QUAD_CORNER_XY 599396.404 3637929.863 *
SE_QUAD_CORNER_XY 599466.101 3631000.786 *
SW_QUAD_CORNER_XY 593614.899 3630943.711 *
SECONDARY_NW_QUAD_XY 593551.347 3637682.032 *
SECONDARY_NE_QUAD_XY 599398.576 3637739.165 *
SECONDARY_SE_QUAD_XY 599468.270 3630810.303 *
SECONDARY_SW_QUAD_XY 593616.940 3630753.227 *
RMSE_XY 3.698 *
IMAGE_SOURCE "CIR FILM" *
SOURCE_IMAGE_ID "NAPP 9566 139" *
SOURCE_IMAGE_DATE 1996 06 16 *
SOURCE_IMAGE_ID "NAPP 9572 35" *
SOURCE_IMAGE_DATE 1996 09 27 *
SOURCE_DEM_DATE 1957 01 01 *
AGENCY "WESTERN MAPPING CENTER (WMC)" *
PRODUCER "ANALYTICAL SURVEYS INC." *
PRODUCTION_SYSTEM "ORBIT OR_RECTIFY V.5.2" *
STANDARD_VERSION 1996 12 *
METADATA_DATE 1998 03 11 *
DATA_FILE_SIZE 151581690 *
BYTE_COUNT 19890 * * * * * * * * * * * * * * * * * * * * * * * * * * * * * * * * * * * * * * * * * * * * * * * * * * * * * * * * * * * * * * * * * * * * * * * * * * * * * * * * * * * * * * * * * * * * * * * * * * * * * * * * * * * * * * * * * * * * * * * * * * * * * * * * * * * * * * * * * * * * * * * * * * * * * * * * * * * * * * * * * * * * * * * * * * * * * * * * * * * * * * * * * * * * * * * * * * * * * * * * * *
END_USGS_HEADER *
